BEGIN:VCALENDAR
VERSION:2.0
PRODID:-//Town Of Dandridge Tennessee - ECPv6.15.20//NONSGML v1.0//EN
CALSCALE:GREGORIAN
METHOD:PUBLISH
X-ORIGINAL-URL:https://dandridgetn.gov
X-WR-CALDESC:Events for Town Of Dandridge Tennessee
REFRESH-INTERVAL;VALUE=DURATION:PT1H
X-Robots-Tag:noindex
X-PUBLISHED-TTL:PT1H
BEGIN:VTIMEZONE
TZID:UTC
BEGIN:STANDARD
TZOFFSETFROM:+0000
TZOFFSETTO:+0000
TZNAME:UTC
DTSTART:20250101T000000
END:STANDARD
END:VTIMEZONE
BEGIN:VEVENT
DTSTART;TZID=UTC:20260620T100000
DTEND;TZID=UTC:20260620T180000
DTSTAMP:20260424T165747
CREATED:20260211T204910Z
LAST-MODIFIED:20260211T204910Z
UID:37539-1781949600-1781978400@dandridgetn.gov
SUMMARY:June Jubilee
DESCRIPTION:
URL:https://dandridgetn.gov/event/june-jubilee-6/
LOCATION:Downtown Dandridge\, Dandridge\, TN\, 37725\, United States
ATTACH;FMTTYPE=image/jpeg:https://dandridgetn.gov/wp-content/uploads/2025/02/June-Jubilee-2025-Sponsor-Board-Logos-FINAL-V2-50pct-scaled.jpg
END:VEVENT
END:VCALENDAR