BEGIN:VCALENDAR
VERSION:2.0
PRODID:-//Town Of Dandridge Tennessee - ECPv6.15.20//NONSGML v1.0//EN
CALSCALE:GREGORIAN
METHOD:PUBLISH
X-WR-CALNAME:Town Of Dandridge Tennessee
X-ORIGINAL-URL:https://dandridgetn.gov
X-WR-CALDESC:Events for Town Of Dandridge Tennessee
REFRESH-INTERVAL;VALUE=DURATION:PT1H
X-Robots-Tag:noindex
X-PUBLISHED-TTL:PT1H
BEGIN:VTIMEZONE
TZID:UTC
BEGIN:STANDARD
TZOFFSETFROM:+0000
TZOFFSETTO:+0000
TZNAME:UTC
DTSTART:20240101T000000
END:STANDARD
END:VTIMEZONE
BEGIN:VEVENT
DTSTART;TZID=UTC:20251212T160000
DTEND;TZID=UTC:20251212T200000
DTSTAMP:20260425T152124
CREATED:20251103T211849Z
LAST-MODIFIED:20251103T211849Z
UID:37368-1765555200-1765569600@dandridgetn.gov
SUMMARY:Ice Skating in Downtown Dandridge
DESCRIPTION:
URL:https://dandridgetn.gov/event/ice-skating-in-downtown-dandridge-9/
LOCATION:Town Hall\, 131 E Main Street\, Dandridge\, TN\, 37725\, United States
ATTACH;FMTTYPE=image/png:https://dandridgetn.gov/wp-content/uploads/2024/11/Ice-Rink-Logo.png
END:VEVENT
BEGIN:VEVENT
DTSTART;TZID=UTC:20251207T120000
DTEND;TZID=UTC:20251207T180000
DTSTAMP:20260425T152124
CREATED:20251103T211759Z
LAST-MODIFIED:20251103T211759Z
UID:37366-1765108800-1765130400@dandridgetn.gov
SUMMARY:Ice Skating in Downtown Dandridge
DESCRIPTION:
URL:https://dandridgetn.gov/event/ice-skating-in-downtown-dandridge-8/
LOCATION:Town Hall\, 131 E Main Street\, Dandridge\, TN\, 37725\, United States
ATTACH;FMTTYPE=image/png:https://dandridgetn.gov/wp-content/uploads/2024/11/Ice-Rink-Logo.png
END:VEVENT
BEGIN:VEVENT
DTSTART;TZID=UTC:20251206T120000
DTEND;TZID=UTC:20251206T200000
DTSTAMP:20260425T152124
CREATED:20251103T211703Z
LAST-MODIFIED:20251103T211703Z
UID:37364-1765022400-1765051200@dandridgetn.gov
SUMMARY:Ice Skating in Downtown Dandridge
DESCRIPTION:
URL:https://dandridgetn.gov/event/ice-skating-in-downtown-dandridge-7/
LOCATION:Town Hall\, 131 E Main Street\, Dandridge\, TN\, 37725\, United States
ATTACH;FMTTYPE=image/png:https://dandridgetn.gov/wp-content/uploads/2024/11/Ice-Rink-Logo.png
END:VEVENT
BEGIN:VEVENT
DTSTART;TZID=UTC:20251206T100000
DTEND;TZID=UTC:20251206T110000
DTSTAMP:20260425T152124
CREATED:20251201T154432Z
LAST-MODIFIED:20251201T154432Z
UID:37417-1765015200-1765018800@dandridgetn.gov
SUMMARY:Reindeer Run
DESCRIPTION:Signups begin at 9:00am @ Maury Middle School and registration is $15.00.  All proceeds will go to the local F.O.P. Shop With A Cop Program! \nRace begins at 10:00am and the route takes you from Maury Middle School into Downtown Dandridge.
URL:https://dandridgetn.gov/event/reindeer-run-3/
LOCATION:Downtown Dandridge\, Dandridge\, TN\, 37725\, United States
ATTACH;FMTTYPE=image/jpeg:https://dandridgetn.gov/wp-content/uploads/2025/12/Reindeer-Run.jpg
END:VEVENT
BEGIN:VEVENT
DTSTART;TZID=UTC:20251205T160000
DTEND;TZID=UTC:20251205T200000
DTSTAMP:20260425T152124
CREATED:20251103T210546Z
LAST-MODIFIED:20251103T210546Z
UID:37360-1764950400-1764964800@dandridgetn.gov
SUMMARY:Ice Skating in Downtown Dandridge
DESCRIPTION:
URL:https://dandridgetn.gov/event/ice-skating-in-downtown-dandridge-6/
LOCATION:Town Hall\, 131 E Main Street\, Dandridge\, TN\, 37725\, United States
ATTACH;FMTTYPE=image/png:https://dandridgetn.gov/wp-content/uploads/2024/11/Ice-Rink-Logo.png
END:VEVENT
BEGIN:VEVENT
DTSTART;TZID=UTC:20251201T180000
DTEND;TZID=UTC:20251201T190000
DTSTAMP:20260425T152124
CREATED:20251120T214604Z
LAST-MODIFIED:20251120T214604Z
UID:37413-1764612000-1764615600@dandridgetn.gov
SUMMARY:Tree Lighting Ceremony
DESCRIPTION:Join us on the steps of the Jefferson County Courthouse in Downtown Dandridge as we light the tree!  Oh\, and did we mention Santa and Mrs. Clause will be there! \nEnjoy a free photo with Santa courtesy of the Town of Dandridge between 5pm and 7pm around the ceremony which begins at 6pm.
URL:https://dandridgetn.gov/event/tree-lighting-ceremony-3/
LOCATION:Downtown Dandridge\, Dandridge\, TN\, 37725\, United States
ATTACH;FMTTYPE=image/png:https://dandridgetn.gov/wp-content/uploads/2024/11/Christmas-in-Dandridge-Logo.png
END:VEVENT
BEGIN:VEVENT
DTSTART;TZID=UTC:20251130T120000
DTEND;TZID=UTC:20251130T180000
DTSTAMP:20260425T152124
CREATED:20251103T210436Z
LAST-MODIFIED:20251103T210436Z
UID:37358-1764504000-1764525600@dandridgetn.gov
SUMMARY:Ice Skating in Downtown Dandridge
DESCRIPTION:
URL:https://dandridgetn.gov/event/ice-skating-in-downtown-dandridge-5/
LOCATION:Town Hall\, 131 E Main Street\, Dandridge\, TN\, 37725\, United States
ATTACH;FMTTYPE=image/png:https://dandridgetn.gov/wp-content/uploads/2024/11/Ice-Rink-Logo.png
END:VEVENT
BEGIN:VEVENT
DTSTART;TZID=UTC:20251129T140000
DTEND;TZID=UTC:20251129T200000
DTSTAMP:20260425T152124
CREATED:20251030T202857Z
LAST-MODIFIED:20251030T202857Z
UID:37350-1764424800-1764446400@dandridgetn.gov
SUMMARY:Ice Skating in Downtown Dandridge
DESCRIPTION:
URL:https://dandridgetn.gov/event/ice-skating-in-downtown-dandridge-4/
LOCATION:Downtown Dandridge\, Dandridge\, TN\, 37725\, United States
ATTACH;FMTTYPE=image/png:https://dandridgetn.gov/wp-content/uploads/2024/11/Ice-Rink-Logo.png
END:VEVENT
BEGIN:VEVENT
DTSTART;TZID=UTC:20251129T100000
DTEND;TZID=UTC:20251129T140000
DTSTAMP:20260425T152124
CREATED:20251030T202715Z
LAST-MODIFIED:20251030T202715Z
UID:37348-1764410400-1764424800@dandridgetn.gov
SUMMARY:Merriment on Main
DESCRIPTION:
URL:https://dandridgetn.gov/event/merriment-on-main-2/
LOCATION:Downtown Dandridge\, Dandridge\, TN\, 37725\, United States
ATTACH;FMTTYPE=image/png:https://dandridgetn.gov/wp-content/uploads/2024/11/Christmas-in-Dandridge-Logo.png
END:VEVENT
BEGIN:VEVENT
DTSTART;VALUE=DATE:20251127
DTEND;VALUE=DATE:20251129
DTSTAMP:20260425T152124
CREATED:20251030T202503Z
LAST-MODIFIED:20251030T202503Z
UID:37346-1764201600-1764374399@dandridgetn.gov
SUMMARY:Town Offices Closed
DESCRIPTION:
URL:https://dandridgetn.gov/event/town-offices-closed-3/
LOCATION:TN
ATTACH;FMTTYPE=image/png:https://dandridgetn.gov/wp-content/uploads/2015/03/Town-Of-Dandridge-Tennessee.png
END:VEVENT
BEGIN:VEVENT
DTSTART;TZID=UTC:20251117T170000
DTEND;TZID=UTC:20251117T180000
DTSTAMP:20260425T152124
CREATED:20251030T202308Z
LAST-MODIFIED:20251030T202308Z
UID:37344-1763398800-1763402400@dandridgetn.gov
SUMMARY:Board of Mayor and Alderman Workshop
DESCRIPTION:
URL:https://dandridgetn.gov/event/board-of-mayor-and-alderman-workshop/
LOCATION:Dandridge PD/PW Building\, 267 W. HWY 25/70\, Dandridge\, 37725\, United States
ATTACH;FMTTYPE=image/png:https://dandridgetn.gov/wp-content/uploads/2015/03/Town-Of-Dandridge-Tennessee.png
END:VEVENT
BEGIN:VEVENT
DTSTART;VALUE=DATE:20251111
DTEND;VALUE=DATE:20251112
DTSTAMP:20260425T152124
CREATED:20251103T135801Z
LAST-MODIFIED:20251103T135801Z
UID:37356-1762819200-1762905599@dandridgetn.gov
SUMMARY:Town Offices Closed
DESCRIPTION:All Town of Dandridge Offices will be closed in Observance of Veterans Day.
URL:https://dandridgetn.gov/event/town-offices-closed-4/
LOCATION:TN
ATTACH;FMTTYPE=image/png:https://dandridgetn.gov/wp-content/uploads/2015/03/Town-Of-Dandridge-Tennessee.png
END:VEVENT
BEGIN:VEVENT
DTSTART;VALUE=DATE:20251107
DTEND;VALUE=DATE:20251109
DTSTAMP:20260425T152124
CREATED:20250409T201354Z
LAST-MODIFIED:20250409T201354Z
UID:37103-1762473600-1762646399@dandridgetn.gov
SUMMARY:White Pine Marine Trail
DESCRIPTION:
URL:https://dandridgetn.gov/event/white-pine-marine-trail-10/
LOCATION:Dandridge Dock\, 257 Public Drive\, Dandridge\, TN\, 37725\, United States
ATTACH;FMTTYPE=image/jpeg:https://dandridgetn.gov/wp-content/uploads/2021/03/WhitePineMarineTrail-1.jpg
END:VEVENT
BEGIN:VEVENT
DTSTART;VALUE=DATE:20251101
DTEND;VALUE=DATE:20251103
DTSTAMP:20260425T152124
CREATED:20250409T201254Z
LAST-MODIFIED:20250409T201254Z
UID:37101-1761955200-1762127999@dandridgetn.gov
SUMMARY:Bill Dance Giant Bass Open Series
DESCRIPTION:
URL:https://dandridgetn.gov/event/bill-dance-giant-bass-open-series-2/
LOCATION:Dandridge Dock\, 257 Public Drive\, Dandridge\, TN\, 37725\, United States
ATTACH;FMTTYPE=image/png:https://dandridgetn.gov/wp-content/uploads/2024/02/bill-dance.png
END:VEVENT
BEGIN:VEVENT
DTSTART;TZID=UTC:20251025T100000
DTEND;TZID=UTC:20251025T170000
DTSTAMP:20260425T152124
CREATED:20250409T200627Z
LAST-MODIFIED:20251013T201847Z
UID:37099-1761386400-1761411600@dandridgetn.gov
SUMMARY:Dandridge Fall Days Festival
DESCRIPTION:Live Music\, Fall Arts Exhibitions\, Chili Cookoff and BBQ Competition all in Downtown Dandridge!  Come join us for the fun!
URL:https://dandridgetn.gov/event/dandridge-mountain-fall-days-festival/
LOCATION:Downtown Dandridge\, Dandridge\, TN\, 37725\, United States
ATTACH;FMTTYPE=image/jpeg:https://dandridgetn.gov/wp-content/uploads/2025/04/Fall-Festival-Board-4x8-copy-Final-25.jpg
END:VEVENT
BEGIN:VEVENT
DTSTART;TZID=UTC:20251025T080000
DTEND;TZID=UTC:20251025T120000
DTSTAMP:20260425T152124
CREATED:20250724T122049Z
LAST-MODIFIED:20251014T171134Z
UID:37249-1761379200-1761393600@dandridgetn.gov
SUMMARY:Dandridge Farmers Market (Final Market of the Year)
DESCRIPTION:
URL:https://dandridgetn.gov/event/dandridge-farmers-market-27/
LOCATION:Downtown Dandridge\, Dandridge\, TN\, 37725\, United States
ATTACH;FMTTYPE=image/jpeg:https://dandridgetn.gov/wp-content/uploads/2025/02/farmers-market1.jpg
END:VEVENT
BEGIN:VEVENT
DTSTART;TZID=UTC:20251021T180000
DTEND;TZID=UTC:20251021T190000
DTSTAMP:20260425T152124
CREATED:20250724T125641Z
LAST-MODIFIED:20250912T145337Z
UID:37256-1761069600-1761073200@dandridgetn.gov
SUMMARY:Board of Mayor and Alderman Meeting
DESCRIPTION:The Board of Mayor and Alderman of Dandridge\, TN will meet in their regularly scheduled meeting\, at a new date and time for October due to Fall Break for Jefferson County Schools at 6:00pm on October 21\, 2025.  The meeting will be held at the Dandridge Police Department/Public Works building.  A copy of the meeting information can be found by clicking the link.
URL:https://dandridgetn.gov/event/board-of-mayor-and-alderman-meeting-5/
LOCATION:Dandridge PD/PW Building\, 267 W. HWY 25/70\, Dandridge\, 37725\, United States
ATTACH;FMTTYPE=image/png:https://dandridgetn.gov/wp-content/uploads/2015/03/Town-Of-Dandridge-Tennessee.png
END:VEVENT
BEGIN:VEVENT
DTSTART;TZID=UTC:20251018T080000
DTEND;TZID=UTC:20251018T120000
DTSTAMP:20260425T152124
CREATED:20251014T171251Z
LAST-MODIFIED:20251014T171403Z
UID:37330-1760774400-1760788800@dandridgetn.gov
SUMMARY:Dandridge Farmers Market
DESCRIPTION:
URL:https://dandridgetn.gov/event/dandridge-farmers-market-28/
LOCATION:Downtown Dandridge\, Dandridge\, TN\, 37725\, United States
ATTACH;FMTTYPE=image/jpeg:https://dandridgetn.gov/wp-content/uploads/2025/02/farmers-market1.jpg
END:VEVENT
BEGIN:VEVENT
DTSTART;VALUE=DATE:20251018
DTEND;VALUE=DATE:20251019
DTSTAMP:20260425T152124
CREATED:20250409T200428Z
LAST-MODIFIED:20250409T200428Z
UID:37097-1760745600-1760831999@dandridgetn.gov
SUMMARY:White Pine Marine Team Trail
DESCRIPTION:
URL:https://dandridgetn.gov/event/white-pine-marine-team-trail-3/
LOCATION:Dandridge Dock\, 257 Public Drive\, Dandridge\, TN\, 37725\, United States
ATTACH;FMTTYPE=image/jpeg:https://dandridgetn.gov/wp-content/uploads/2021/03/WhitePineMarineTrail-1.jpg
END:VEVENT
BEGIN:VEVENT
DTSTART;TZID=UTC:20251016T190000
DTEND;TZID=UTC:20251016T203000
DTSTAMP:20260425T152124
CREATED:20250529T125824Z
LAST-MODIFIED:20250529T125824Z
UID:37155-1760641200-1760646600@dandridgetn.gov
SUMMARY:Music on the Town - Dan Tyminski Band
DESCRIPTION:Join us at the Music on the Town stage directly behind Town Hall and the Visitors Center in Downtown Dandridge! \nFood Vendors will be on site as well as concessions with ice cream and popcorn.  The show begins with our Pause For A Patriot Ceremony at 6:45pm where we honor a local veteran.  The live music begins at 7:00pm. \n \n 
URL:https://dandridgetn.gov/event/music-on-the-town-dan-tyminski-band/
LOCATION:Downtown Dandridge\, Dandridge\, TN\, 37725\, United States
ATTACH;FMTTYPE=image/png:https://dandridgetn.gov/wp-content/uploads/2015/03/Music-on-the-Town-Logo-Revised.png
END:VEVENT
BEGIN:VEVENT
DTSTART;TZID=UTC:20251011T080000
DTEND;TZID=UTC:20251011T120000
DTSTAMP:20260425T152124
CREATED:20250724T122008Z
LAST-MODIFIED:20250724T122008Z
UID:37247-1760169600-1760184000@dandridgetn.gov
SUMMARY:Dandridge Farmers Market
DESCRIPTION:
URL:https://dandridgetn.gov/event/dandridge-farmers-market-26/
LOCATION:Downtown Dandridge\, Dandridge\, TN\, 37725\, United States
ATTACH;FMTTYPE=image/jpeg:https://dandridgetn.gov/wp-content/uploads/2025/02/farmers-market1.jpg
END:VEVENT
BEGIN:VEVENT
DTSTART;TZID=UTC:20251009T190000
DTEND;TZID=UTC:20251009T203000
DTSTAMP:20260425T152124
CREATED:20250529T125530Z
LAST-MODIFIED:20250529T125530Z
UID:37152-1760036400-1760041800@dandridgetn.gov
SUMMARY:Music on the Town - Authentic Unlimited
DESCRIPTION:Join us at the Music on the Town stage directly behind Town Hall and the Visitors Center in Downtown Dandridge! \nFood Vendors will be on site as well as concessions with ice cream and popcorn.  The show begins with our Pause For A Patriot Ceremony at 6:45pm where we honor a local veteran.  The live music begins at 7:00pm. \n \n 
URL:https://dandridgetn.gov/event/music-on-the-town-authentic-unlimited/
LOCATION:Downtown Dandridge\, Dandridge\, TN\, 37725\, United States
ATTACH;FMTTYPE=image/png:https://dandridgetn.gov/wp-content/uploads/2015/03/Music-on-the-Town-Logo-Revised.png
END:VEVENT
BEGIN:VEVENT
DTSTART;VALUE=DATE:20251009
DTEND;VALUE=DATE:20251012
DTSTAMP:20260425T152124
CREATED:20250409T200323Z
LAST-MODIFIED:20250409T200323Z
UID:37095-1759968000-1760227199@dandridgetn.gov
SUMMARY:Bass Fishing League
DESCRIPTION:
URL:https://dandridgetn.gov/event/bass-fishing-league/
LOCATION:Dandridge Dock\, 257 Public Drive\, Dandridge\, TN\, 37725\, United States
ATTACH;FMTTYPE=image/jpeg:https://dandridgetn.gov/wp-content/uploads/2021/03/fullsizeoutput_1d74.jpeg
END:VEVENT
BEGIN:VEVENT
DTSTART;TZID=UTC:20251004T080000
DTEND;TZID=UTC:20251004T120000
DTSTAMP:20260425T152124
CREATED:20250724T121920Z
LAST-MODIFIED:20250724T121920Z
UID:37245-1759564800-1759579200@dandridgetn.gov
SUMMARY:Dandridge Farmers Market
DESCRIPTION:
URL:https://dandridgetn.gov/event/dandridge-farmers-market-25/
LOCATION:Downtown Dandridge\, Dandridge\, TN\, 37725\, United States
ATTACH;FMTTYPE=image/jpeg:https://dandridgetn.gov/wp-content/uploads/2025/02/farmers-market1.jpg
END:VEVENT
BEGIN:VEVENT
DTSTART;VALUE=DATE:20251003
DTEND;VALUE=DATE:20251006
DTSTAMP:20260425T152124
CREATED:20250409T200113Z
LAST-MODIFIED:20250409T200113Z
UID:37093-1759449600-1759708799@dandridgetn.gov
SUMMARY:Big Bass Tour
DESCRIPTION:
URL:https://dandridgetn.gov/event/big-bass-tour-5/
LOCATION:Dandridge Dock\, 257 Public Drive\, Dandridge\, TN\, 37725\, United States
ATTACH;FMTTYPE=image/png:https://dandridgetn.gov/wp-content/uploads/2025/02/bbt-logo-2022.png
END:VEVENT
BEGIN:VEVENT
DTSTART;TZID=UTC:20251002T190000
DTEND;TZID=UTC:20251002T203000
DTSTAMP:20260425T152124
CREATED:20250529T125049Z
LAST-MODIFIED:20250613T151947Z
UID:37149-1759431600-1759437000@dandridgetn.gov
SUMMARY:Music on the Town - Hammertowne
DESCRIPTION:Join us at the Music on the Town stage directly behind Town Hall and the Visitors Center in Downtown Dandridge! \nFood Vendors will be on site as well as concessions with ice cream and popcorn.  The show begins with our Pause For A Patriot Ceremony at 6:45pm where we honor a local veteran.  The live music begins at 7:00pm.
URL:https://dandridgetn.gov/event/music-on-the-town-russell-moore-iiird-tyme-out-3/
LOCATION:Downtown Dandridge\, Dandridge\, TN\, 37725\, United States
ATTACH;FMTTYPE=image/png:https://dandridgetn.gov/wp-content/uploads/2015/03/Music-on-the-Town-Logo-Revised.png
END:VEVENT
BEGIN:VEVENT
DTSTART;TZID=UTC:20250926T183000
DTEND;TZID=UTC:20250927T210000
DTSTAMP:20260425T152124
CREATED:20250409T195755Z
LAST-MODIFIED:20250409T195755Z
UID:37091-1758911400-1759006800@dandridgetn.gov
SUMMARY:Dandridge Scots-Irish Festival
DESCRIPTION:Join us in Downtown Dandridge as we celebrate the heritage of early settlers in the Dandridge Scots-Irish Festival!  Events\, food\, drinks\, and entertainment fill the streets. We welcome everyone to join us\, there is something for all!
URL:https://dandridgetn.gov/event/dandridge-scots-irish-festival-2/
LOCATION:Downtown Dandridge\, Dandridge\, TN\, 37725\, United States
ATTACH;FMTTYPE=image/png:https://dandridgetn.gov/wp-content/uploads/2019/07/download.png
END:VEVENT
BEGIN:VEVENT
DTSTART;TZID=UTC:20250925T190000
DTEND;TZID=UTC:20250925T203000
DTSTAMP:20260425T152124
CREATED:20250529T124416Z
LAST-MODIFIED:20250529T124416Z
UID:37146-1758826800-1758832200@dandridgetn.gov
SUMMARY:Music on the Town - The Grascals
DESCRIPTION:Join us at the Music on the Town stage directly behind Town Hall and the Visitors Center in Downtown Dandridge! \nFood Vendors will be on site as well as concessions with ice cream and popcorn.  The show begins with our Pause For A Patriot Ceremony at 6:45pm where we honor a local veteran.  The live music begins at 7:00pm.
URL:https://dandridgetn.gov/event/music-on-the-town-the-grascals-2/
LOCATION:Downtown Dandridge\, Dandridge\, TN\, 37725\, United States
ATTACH;FMTTYPE=image/png:https://dandridgetn.gov/wp-content/uploads/2015/03/Music-on-the-Town-Logo-Revised.png
END:VEVENT
BEGIN:VEVENT
DTSTART;TZID=UTC:20250920T080000
DTEND;TZID=UTC:20250920T120000
DTSTAMP:20260425T152124
CREATED:20250724T121657Z
LAST-MODIFIED:20250724T121657Z
UID:37243-1758355200-1758369600@dandridgetn.gov
SUMMARY:Dandridge Farmers Market
DESCRIPTION:
URL:https://dandridgetn.gov/event/dandridge-farmers-market-24/
LOCATION:Downtown Dandridge\, Dandridge\, TN\, 37725\, United States
ATTACH;FMTTYPE=image/jpeg:https://dandridgetn.gov/wp-content/uploads/2025/02/farmers-market1.jpg
END:VEVENT
BEGIN:VEVENT
DTSTART;TZID=UTC:20250918T190000
DTEND;TZID=UTC:20250918T203000
DTSTAMP:20260425T152124
CREATED:20250529T123729Z
LAST-MODIFIED:20250529T123729Z
UID:37143-1758222000-1758227400@dandridgetn.gov
SUMMARY:Music on the Town - Blue Highway
DESCRIPTION:Join us at the Music on the Town stage directly behind Town Hall and the Visitors Center in Downtown Dandridge! \nFood Vendors will be on site as well as concessions with ice cream and popcorn.  The show begins with our Pause For A Patriot Ceremony at 6:45pm where we honor a local veteran.  The live music begins at 7:00pm.
URL:https://dandridgetn.gov/event/music-on-the-town-blue-highway-3/
LOCATION:Downtown Dandridge\, Dandridge\, TN\, 37725\, United States
ATTACH;FMTTYPE=image/png:https://dandridgetn.gov/wp-content/uploads/2015/03/Music-on-the-Town-Logo-Revised.png
END:VEVENT
END:VCALENDAR