BEGIN:VCALENDAR
VERSION:2.0
PRODID:-//Town Of Dandridge Tennessee - ECPv6.15.20//NONSGML v1.0//EN
CALSCALE:GREGORIAN
METHOD:PUBLISH
X-ORIGINAL-URL:https://dandridgetn.gov
X-WR-CALDESC:Events for Town Of Dandridge Tennessee
REFRESH-INTERVAL;VALUE=DURATION:PT1H
X-Robots-Tag:noindex
X-PUBLISHED-TTL:PT1H
BEGIN:VTIMEZONE
TZID:UTC
BEGIN:STANDARD
TZOFFSETFROM:+0000
TZOFFSETTO:+0000
TZNAME:UTC
DTSTART:20250101T000000
END:STANDARD
END:VTIMEZONE
BEGIN:VEVENT
DTSTART;TZID=UTC:20261231T120000
DTEND;TZID=UTC:20261231T163000
DTSTAMP:20260425T104710
CREATED:20260122T140632Z
LAST-MODIFIED:20260122T155927Z
UID:37495-1798718400-1798734600@dandridgetn.gov
SUMMARY:Town Offices Close at 12:00pm
DESCRIPTION:Town offices will close at 12:00pm in observance of New Year’s Day.
URL:https://dandridgetn.gov/event/town-offices-close-at-1200pm-2/
LOCATION:Town Hall\, 131 E Main Street\, Dandridge\, TN\, 37725\, United States
ATTACH;FMTTYPE=image/png:https://dandridgetn.gov/wp-content/uploads/2026/01/Closed-New-Years-Day.png
END:VEVENT
BEGIN:VEVENT
DTSTART;VALUE=DATE:20270101
DTEND;VALUE=DATE:20270102
DTSTAMP:20260425T104710
CREATED:20260122T160125Z
LAST-MODIFIED:20260122T160125Z
UID:37498-1798761600-1798847999@dandridgetn.gov
SUMMARY:Town Offices Closed
DESCRIPTION:Town offices will be closed in observance of New Year’s Day
URL:https://dandridgetn.gov/event/town-offices-closed-16/
LOCATION:Town Hall\, 131 E Main Street\, Dandridge\, TN\, 37725\, United States
ATTACH;FMTTYPE=image/png:https://dandridgetn.gov/wp-content/uploads/2026/01/Closed-New-Years-Day.png
END:VEVENT
END:VCALENDAR