BEGIN:VCALENDAR
VERSION:2.0
PRODID:-//Town Of Dandridge Tennessee - ECPv6.15.20//NONSGML v1.0//EN
CALSCALE:GREGORIAN
METHOD:PUBLISH
X-WR-CALNAME:Town Of Dandridge Tennessee
X-ORIGINAL-URL:https://dandridgetn.gov
X-WR-CALDESC:Events for Town Of Dandridge Tennessee
REFRESH-INTERVAL;VALUE=DURATION:PT1H
X-Robots-Tag:noindex
X-PUBLISHED-TTL:PT1H
BEGIN:VTIMEZONE
TZID:UTC
BEGIN:STANDARD
TZOFFSETFROM:+0000
TZOFFSETTO:+0000
TZNAME:UTC
DTSTART:20240101T000000
END:STANDARD
END:VTIMEZONE
BEGIN:VEVENT
DTSTART;VALUE=DATE:20260312
DTEND;VALUE=DATE:20260313
DTSTAMP:20260425T110153
CREATED:20260122T161015Z
LAST-MODIFIED:20260122T161015Z
UID:37500-1773273600-1773359999@dandridgetn.gov
SUMMARY:Bassmaster Celebrity Pro-Am
DESCRIPTION:
URL:https://dandridgetn.gov/event/bassmaster-celebrity-pro-am/
LOCATION:Dandridge Dock\, 257 Public Drive\, Dandridge\, TN\, 37725\, United States
ATTACH;FMTTYPE=image/webp:https://dandridgetn.gov/wp-content/uploads/2026/01/Bassmaster-Classic-Logo.webp
END:VEVENT
BEGIN:VEVENT
DTSTART;TZID=UTC:20260310T180000
DTEND;TZID=UTC:20260310T190000
DTSTAMP:20260425T110153
CREATED:20260122T162853Z
LAST-MODIFIED:20260122T162853Z
UID:37507-1773165600-1773169200@dandridgetn.gov
SUMMARY:Board of Mayor and Alderman Meeting
DESCRIPTION:A copy of the meeting minutes and packet can be found by CLICKING HERE!
URL:https://dandridgetn.gov/event/board-of-mayor-and-alderman-meeting-6/
LOCATION:Dandridge PD/PW Building\, 267 W. HWY 25/70\, Dandridge\, 37725\, United States
ATTACH;FMTTYPE=image/png:https://dandridgetn.gov/wp-content/uploads/2015/03/Town-Of-Dandridge-Tennessee.png
END:VEVENT
BEGIN:VEVENT
DTSTART;VALUE=DATE:20260216
DTEND;VALUE=DATE:20260217
DTSTAMP:20260425T110153
CREATED:20260120T220139Z
LAST-MODIFIED:20260120T220139Z
UID:37465-1771200000-1771286399@dandridgetn.gov
SUMMARY:Town Offices Closed
DESCRIPTION:Town Offices Closed in Observance of President’s Day!
URL:https://dandridgetn.gov/event/town-offices-closed-7/
LOCATION:Town Hall\, 131 E Main Street\, Dandridge\, TN\, 37725\, United States
ATTACH;FMTTYPE=image/png:https://dandridgetn.gov/wp-content/uploads/2026/01/Closed-Presidents-Day.png
END:VEVENT
BEGIN:VEVENT
DTSTART;TZID=UTC:20260210T180000
DTEND;TZID=UTC:20260210T190000
DTSTAMP:20260425T110153
CREATED:20251230T210712Z
LAST-MODIFIED:20260122T162700Z
UID:37444-1770746400-1770750000@dandridgetn.gov
SUMMARY:Board of Mayor and Aldermen Meeting
DESCRIPTION:A copy of meeting agendas and packets can be found by CLICKING HERE!
URL:https://dandridgetn.gov/event/board-of-mayor-and-aldermen-meeting-2/
LOCATION:Dandridge PD/PW Building\, 267 W. HWY 25/70\, Dandridge\, 37725\, United States
ATTACH;FMTTYPE=image/png:https://dandridgetn.gov/wp-content/uploads/2015/03/Town-Of-Dandridge-Tennessee.png
END:VEVENT
BEGIN:VEVENT
DTSTART;TZID=UTC:20260114T120000
DTEND;TZID=UTC:20260114T123000
DTSTAMP:20260425T110153
CREATED:20251230T210536Z
LAST-MODIFIED:20251230T210536Z
UID:37441-1768392000-1768393800@dandridgetn.gov
SUMMARY:ARC Public Input Meeting
DESCRIPTION:
URL:https://dandridgetn.gov/event/arc-public-input-meeting/
LOCATION:Dandridge Water Management Facility\, 1114 Wastewater Drive\, Dandridge\, TN\, 37725\, United States
END:VEVENT
BEGIN:VEVENT
DTSTART;TZID=UTC:20260113T180000
DTEND;TZID=UTC:20260113T190000
DTSTAMP:20260425T110153
CREATED:20251230T210213Z
LAST-MODIFIED:20251230T210213Z
UID:37439-1768327200-1768330800@dandridgetn.gov
SUMMARY:Board of Mayor and Aldermen Meeting
DESCRIPTION:
URL:https://dandridgetn.gov/event/board-of-mayor-and-aldermen-meeting/
LOCATION:Dandridge PD/PW Building\, 267 W. HWY 25/70\, Dandridge\, 37725\, United States
ATTACH;FMTTYPE=image/png:https://dandridgetn.gov/wp-content/uploads/2015/03/Town-Of-Dandridge-Tennessee.png
END:VEVENT
BEGIN:VEVENT
DTSTART;TZID=UTC:20260103T120000
DTEND;TZID=UTC:20260103T200000
DTSTAMP:20260425T110153
CREATED:20251103T213507Z
LAST-MODIFIED:20251103T213507Z
UID:37396-1767441600-1767470400@dandridgetn.gov
SUMMARY:Ice Skating in Downtown Dandridge
DESCRIPTION:
URL:https://dandridgetn.gov/event/ice-skating-in-downtown-dandridge-23/
LOCATION:Town Hall\, 131 E Main Street\, Dandridge\, TN\, 37725\, United States
ATTACH;FMTTYPE=image/png:https://dandridgetn.gov/wp-content/uploads/2024/11/Ice-Rink-Logo.png
END:VEVENT
BEGIN:VEVENT
DTSTART;TZID=UTC:20260102T160000
DTEND;TZID=UTC:20260102T200000
DTSTAMP:20260425T110153
CREATED:20251103T213418Z
LAST-MODIFIED:20251103T213418Z
UID:37394-1767369600-1767384000@dandridgetn.gov
SUMMARY:Ice Skating in Downtown Dandridge
DESCRIPTION:
URL:https://dandridgetn.gov/event/ice-skating-in-downtown-dandridge-22/
LOCATION:Town Hall\, 131 E Main Street\, Dandridge\, TN\, 37725\, United States
ATTACH;FMTTYPE=image/png:https://dandridgetn.gov/wp-content/uploads/2024/11/Ice-Rink-Logo.png
END:VEVENT
BEGIN:VEVENT
DTSTART;TZID=UTC:20260101T160000
DTEND;TZID=UTC:20260101T200000
DTSTAMP:20260425T110153
CREATED:20251103T213315Z
LAST-MODIFIED:20251103T213315Z
UID:37392-1767283200-1767297600@dandridgetn.gov
SUMMARY:Ice Skating in Downtown Dandridge
DESCRIPTION:
URL:https://dandridgetn.gov/event/ice-skating-in-downtown-dandridge-21/
LOCATION:Town Hall\, 131 E Main Street\, Dandridge\, TN\, 37725\, United States
ATTACH;FMTTYPE=image/png:https://dandridgetn.gov/wp-content/uploads/2024/11/Ice-Rink-Logo.png
END:VEVENT
BEGIN:VEVENT
DTSTART;VALUE=DATE:20260101
DTEND;VALUE=DATE:20260102
DTSTAMP:20260425T110153
CREATED:20251103T213832Z
LAST-MODIFIED:20251103T213832Z
UID:37400-1767225600-1767311999@dandridgetn.gov
SUMMARY:Town Offices Closed
DESCRIPTION:
URL:https://dandridgetn.gov/event/town-offices-closed-6/
LOCATION:TN
ATTACH;FMTTYPE=image/png:https://dandridgetn.gov/wp-content/uploads/2015/03/Town-Of-Dandridge-Tennessee.png
END:VEVENT
BEGIN:VEVENT
DTSTART;TZID=UTC:20251231T120000
DTEND;TZID=UTC:20251231T163000
DTSTAMP:20260425T110153
CREATED:20251223T153510Z
LAST-MODIFIED:20251223T153510Z
UID:37435-1767182400-1767198600@dandridgetn.gov
SUMMARY:Town Offices Close @ 12:00pm
DESCRIPTION:
URL:https://dandridgetn.gov/event/town-offices-close-1200pm/
LOCATION:Town Hall\, 131 E Main Street\, Dandridge\, TN\, 37725\, United States
ATTACH;FMTTYPE=image/png:https://dandridgetn.gov/wp-content/uploads/2024/11/Christmas-in-Dandridge-Logo.png
END:VEVENT
BEGIN:VEVENT
DTSTART;TZID=UTC:20251228T120000
DTEND;TZID=UTC:20251228T180000
DTSTAMP:20260425T110153
CREATED:20251103T213218Z
LAST-MODIFIED:20251103T213218Z
UID:37390-1766923200-1766944800@dandridgetn.gov
SUMMARY:Ice Skating in Downtown Dandridge
DESCRIPTION:
URL:https://dandridgetn.gov/event/ice-skating-in-downtown-dandridge-20/
LOCATION:Town Hall\, 131 E Main Street\, Dandridge\, TN\, 37725\, United States
ATTACH;FMTTYPE=image/png:https://dandridgetn.gov/wp-content/uploads/2024/11/Ice-Rink-Logo.png
END:VEVENT
BEGIN:VEVENT
DTSTART;TZID=UTC:20251227T120000
DTEND;TZID=UTC:20251227T200000
DTSTAMP:20260425T110153
CREATED:20251103T213055Z
LAST-MODIFIED:20251103T213055Z
UID:37388-1766836800-1766865600@dandridgetn.gov
SUMMARY:Ice Skating in Downtown Dandridge
DESCRIPTION:
URL:https://dandridgetn.gov/event/ice-skating-in-downtown-dandridge-19/
LOCATION:Town Hall\, 131 E Main Street\, Dandridge\, TN\, 37725\, United States
ATTACH;FMTTYPE=image/png:https://dandridgetn.gov/wp-content/uploads/2024/11/Ice-Rink-Logo.png
END:VEVENT
BEGIN:VEVENT
DTSTART;TZID=UTC:20251226T120000
DTEND;TZID=UTC:20251226T180000
DTSTAMP:20260425T110153
CREATED:20251103T213021Z
LAST-MODIFIED:20251103T213021Z
UID:37386-1766750400-1766772000@dandridgetn.gov
SUMMARY:Ice Skating in Downtown Dandridge
DESCRIPTION:
URL:https://dandridgetn.gov/event/ice-skating-in-downtown-dandridge-18/
LOCATION:Town Hall\, 131 E Main Street\, Dandridge\, TN\, 37725\, United States
ATTACH;FMTTYPE=image/png:https://dandridgetn.gov/wp-content/uploads/2024/11/Ice-Rink-Logo.png
END:VEVENT
BEGIN:VEVENT
DTSTART;TZID=UTC:20251224T120000
DTEND;TZID=UTC:20251224T180000
DTSTAMP:20260425T110153
CREATED:20251103T212910Z
LAST-MODIFIED:20251103T212910Z
UID:37384-1766577600-1766599200@dandridgetn.gov
SUMMARY:Ice Skating in Downtown Dandridge
DESCRIPTION:
URL:https://dandridgetn.gov/event/ice-skating-in-downtown-dandridge-17/
LOCATION:Town Hall\, 131 E Main Street\, Dandridge\, TN\, 37725\, United States
ATTACH;FMTTYPE=image/png:https://dandridgetn.gov/wp-content/uploads/2024/11/Ice-Rink-Logo.png
END:VEVENT
BEGIN:VEVENT
DTSTART;VALUE=DATE:20251224
DTEND;VALUE=DATE:20251227
DTSTAMP:20260425T110153
CREATED:20251103T213753Z
LAST-MODIFIED:20251223T153311Z
UID:37398-1766534400-1766793599@dandridgetn.gov
SUMMARY:Town Offices Closed
DESCRIPTION:
URL:https://dandridgetn.gov/event/town-offices-closed-5/
LOCATION:TN
ATTACH;FMTTYPE=image/png:https://dandridgetn.gov/wp-content/uploads/2015/03/Town-Of-Dandridge-Tennessee.png
END:VEVENT
BEGIN:VEVENT
DTSTART;TZID=UTC:20251223T120000
DTEND;TZID=UTC:20251223T180000
DTSTAMP:20260425T110153
CREATED:20251103T212817Z
LAST-MODIFIED:20251103T212817Z
UID:37382-1766491200-1766512800@dandridgetn.gov
SUMMARY:Ice Skating in Downtown Dandridge
DESCRIPTION:
URL:https://dandridgetn.gov/event/ice-skating-in-downtown-dandridge-16/
LOCATION:Town Hall\, 131 E Main Street\, Dandridge\, TN\, 37725\, United States
ATTACH;FMTTYPE=image/png:https://dandridgetn.gov/wp-content/uploads/2024/11/Ice-Rink-Logo.png
END:VEVENT
BEGIN:VEVENT
DTSTART;TZID=UTC:20251222T120000
DTEND;TZID=UTC:20251222T180000
DTSTAMP:20260425T110153
CREATED:20251103T212742Z
LAST-MODIFIED:20251103T212742Z
UID:37380-1766404800-1766426400@dandridgetn.gov
SUMMARY:Ice Skating in Downtown Dandridge
DESCRIPTION:
URL:https://dandridgetn.gov/event/ice-skating-in-downtown-dandridge-15/
LOCATION:Town Hall\, 131 E Main Street\, Dandridge\, TN\, 37725\, United States
ATTACH;FMTTYPE=image/png:https://dandridgetn.gov/wp-content/uploads/2024/11/Ice-Rink-Logo.png
END:VEVENT
BEGIN:VEVENT
DTSTART;TZID=UTC:20251221T120000
DTEND;TZID=UTC:20251221T180000
DTSTAMP:20260425T110153
CREATED:20251103T212608Z
LAST-MODIFIED:20251103T212608Z
UID:37378-1766318400-1766340000@dandridgetn.gov
SUMMARY:Ice Skating in Downtown Dandridge
DESCRIPTION:
URL:https://dandridgetn.gov/event/ice-skating-in-downtown-dandridge-14/
LOCATION:Town Hall\, 131 E Main Street\, Dandridge\, TN\, 37725\, United States
ATTACH;FMTTYPE=image/png:https://dandridgetn.gov/wp-content/uploads/2024/11/Ice-Rink-Logo.png
END:VEVENT
BEGIN:VEVENT
DTSTART;TZID=UTC:20251220T130000
DTEND;TZID=UTC:20251220T140000
DTSTAMP:20260425T110153
CREATED:20251103T211321Z
LAST-MODIFIED:20251103T211321Z
UID:37362-1766235600-1766239200@dandridgetn.gov
SUMMARY:Dandridge Christmas Parade
DESCRIPTION:Come join us for the Dandridge Volunteer Fire Department’s Annual Christmas Parade in Downtown Dandridge!  Lineup begins at 11:00am and the parade begins at 1:00pm.  The parade route will go from Maury Middle School to Downtown Dandridge on HWY 25/70 and turn onto Gay St.  Spectators are welcome to line the sidewalks for the entire route.  There is no formal registration for the parade\, if you wish to participate just be in line at 11:00am at Maury Middle School.  If you have any questions regarding the parade please contact the Dandridge Volunteer Fire Department at 865-397-3192.
URL:https://dandridgetn.gov/event/dandridge-christmas-parade/
LOCATION:Downtown Dandridge\, Dandridge\, TN\, 37725\, United States
ATTACH;FMTTYPE=image/jpeg:https://dandridgetn.gov/wp-content/uploads/2018/11/Dandridge-Christmas-Parade-12202014-184.jpg
END:VEVENT
BEGIN:VEVENT
DTSTART;TZID=UTC:20251220T120000
DTEND;TZID=UTC:20251220T200000
DTSTAMP:20260425T110153
CREATED:20251103T212436Z
LAST-MODIFIED:20251103T212436Z
UID:37376-1766232000-1766260800@dandridgetn.gov
SUMMARY:Ice Skating in Downtown Dandridge
DESCRIPTION:
URL:https://dandridgetn.gov/event/ice-skating-in-downtown-dandridge-13/
LOCATION:Town Hall\, 131 E Main Street\, Dandridge\, TN\, 37725\, United States
ATTACH;FMTTYPE=image/png:https://dandridgetn.gov/wp-content/uploads/2024/11/Ice-Rink-Logo.png
END:VEVENT
BEGIN:VEVENT
DTSTART;TZID=UTC:20251219T160000
DTEND;TZID=UTC:20251219T200000
DTSTAMP:20260425T110153
CREATED:20251103T212258Z
LAST-MODIFIED:20251103T212258Z
UID:37374-1766160000-1766174400@dandridgetn.gov
SUMMARY:Ice Skating in Downtown Dandridge
DESCRIPTION:
URL:https://dandridgetn.gov/event/ice-skating-in-downtown-dandridge-12/
LOCATION:Town Hall\, 131 E Main Street\, Dandridge\, TN\, 37725\, United States
ATTACH;FMTTYPE=image/png:https://dandridgetn.gov/wp-content/uploads/2024/11/Ice-Rink-Logo.png
END:VEVENT
BEGIN:VEVENT
DTSTART;TZID=UTC:20251214T120000
DTEND;TZID=UTC:20251214T180000
DTSTAMP:20260425T110153
CREATED:20251103T212034Z
LAST-MODIFIED:20251103T212034Z
UID:37372-1765713600-1765735200@dandridgetn.gov
SUMMARY:Ice Skating in Downtown Dandridge
DESCRIPTION:
URL:https://dandridgetn.gov/event/ice-skating-in-downtown-dandridge-11/
LOCATION:Town Hall\, 131 E Main Street\, Dandridge\, TN\, 37725\, United States
ATTACH;FMTTYPE=image/png:https://dandridgetn.gov/wp-content/uploads/2024/11/Ice-Rink-Logo.png
END:VEVENT
BEGIN:VEVENT
DTSTART;TZID=UTC:20251213T120000
DTEND;TZID=UTC:20251213T200000
DTSTAMP:20260425T110153
CREATED:20251103T211930Z
LAST-MODIFIED:20251103T211930Z
UID:37370-1765627200-1765656000@dandridgetn.gov
SUMMARY:Ice Skating in Downtown Dandridge
DESCRIPTION:
URL:https://dandridgetn.gov/event/ice-skating-in-downtown-dandridge-10/
LOCATION:Town Hall\, 131 E Main Street\, Dandridge\, TN\, 37725\, United States
ATTACH;FMTTYPE=image/png:https://dandridgetn.gov/wp-content/uploads/2024/11/Ice-Rink-Logo.png
END:VEVENT
BEGIN:VEVENT
DTSTART;TZID=UTC:20251212T160000
DTEND;TZID=UTC:20251212T200000
DTSTAMP:20260425T110153
CREATED:20251103T211849Z
LAST-MODIFIED:20251103T211849Z
UID:37368-1765555200-1765569600@dandridgetn.gov
SUMMARY:Ice Skating in Downtown Dandridge
DESCRIPTION:
URL:https://dandridgetn.gov/event/ice-skating-in-downtown-dandridge-9/
LOCATION:Town Hall\, 131 E Main Street\, Dandridge\, TN\, 37725\, United States
ATTACH;FMTTYPE=image/png:https://dandridgetn.gov/wp-content/uploads/2024/11/Ice-Rink-Logo.png
END:VEVENT
BEGIN:VEVENT
DTSTART;TZID=UTC:20251207T120000
DTEND;TZID=UTC:20251207T180000
DTSTAMP:20260425T110153
CREATED:20251103T211759Z
LAST-MODIFIED:20251103T211759Z
UID:37366-1765108800-1765130400@dandridgetn.gov
SUMMARY:Ice Skating in Downtown Dandridge
DESCRIPTION:
URL:https://dandridgetn.gov/event/ice-skating-in-downtown-dandridge-8/
LOCATION:Town Hall\, 131 E Main Street\, Dandridge\, TN\, 37725\, United States
ATTACH;FMTTYPE=image/png:https://dandridgetn.gov/wp-content/uploads/2024/11/Ice-Rink-Logo.png
END:VEVENT
BEGIN:VEVENT
DTSTART;TZID=UTC:20251206T120000
DTEND;TZID=UTC:20251206T200000
DTSTAMP:20260425T110153
CREATED:20251103T211703Z
LAST-MODIFIED:20251103T211703Z
UID:37364-1765022400-1765051200@dandridgetn.gov
SUMMARY:Ice Skating in Downtown Dandridge
DESCRIPTION:
URL:https://dandridgetn.gov/event/ice-skating-in-downtown-dandridge-7/
LOCATION:Town Hall\, 131 E Main Street\, Dandridge\, TN\, 37725\, United States
ATTACH;FMTTYPE=image/png:https://dandridgetn.gov/wp-content/uploads/2024/11/Ice-Rink-Logo.png
END:VEVENT
BEGIN:VEVENT
DTSTART;TZID=UTC:20251206T100000
DTEND;TZID=UTC:20251206T110000
DTSTAMP:20260425T110153
CREATED:20251201T154432Z
LAST-MODIFIED:20251201T154432Z
UID:37417-1765015200-1765018800@dandridgetn.gov
SUMMARY:Reindeer Run
DESCRIPTION:Signups begin at 9:00am @ Maury Middle School and registration is $15.00.  All proceeds will go to the local F.O.P. Shop With A Cop Program! \nRace begins at 10:00am and the route takes you from Maury Middle School into Downtown Dandridge.
URL:https://dandridgetn.gov/event/reindeer-run-3/
LOCATION:Downtown Dandridge\, Dandridge\, TN\, 37725\, United States
ATTACH;FMTTYPE=image/jpeg:https://dandridgetn.gov/wp-content/uploads/2025/12/Reindeer-Run.jpg
END:VEVENT
BEGIN:VEVENT
DTSTART;TZID=UTC:20251205T160000
DTEND;TZID=UTC:20251205T200000
DTSTAMP:20260425T110153
CREATED:20251103T210546Z
LAST-MODIFIED:20251103T210546Z
UID:37360-1764950400-1764964800@dandridgetn.gov
SUMMARY:Ice Skating in Downtown Dandridge
DESCRIPTION:
URL:https://dandridgetn.gov/event/ice-skating-in-downtown-dandridge-6/
LOCATION:Town Hall\, 131 E Main Street\, Dandridge\, TN\, 37725\, United States
ATTACH;FMTTYPE=image/png:https://dandridgetn.gov/wp-content/uploads/2024/11/Ice-Rink-Logo.png
END:VEVENT
BEGIN:VEVENT
DTSTART;TZID=UTC:20251201T180000
DTEND;TZID=UTC:20251201T190000
DTSTAMP:20260425T110153
CREATED:20251120T214604Z
LAST-MODIFIED:20251120T214604Z
UID:37413-1764612000-1764615600@dandridgetn.gov
SUMMARY:Tree Lighting Ceremony
DESCRIPTION:Join us on the steps of the Jefferson County Courthouse in Downtown Dandridge as we light the tree!  Oh\, and did we mention Santa and Mrs. Clause will be there! \nEnjoy a free photo with Santa courtesy of the Town of Dandridge between 5pm and 7pm around the ceremony which begins at 6pm.
URL:https://dandridgetn.gov/event/tree-lighting-ceremony-3/
LOCATION:Downtown Dandridge\, Dandridge\, TN\, 37725\, United States
ATTACH;FMTTYPE=image/png:https://dandridgetn.gov/wp-content/uploads/2024/11/Christmas-in-Dandridge-Logo.png
END:VEVENT
END:VCALENDAR