BEGIN:VCALENDAR
VERSION:2.0
PRODID:-//Town Of Dandridge Tennessee - ECPv6.15.20//NONSGML v1.0//EN
CALSCALE:GREGORIAN
METHOD:PUBLISH
X-WR-CALNAME:Town Of Dandridge Tennessee
X-ORIGINAL-URL:https://dandridgetn.gov
X-WR-CALDESC:Events for Town Of Dandridge Tennessee
REFRESH-INTERVAL;VALUE=DURATION:PT1H
X-Robots-Tag:noindex
X-PUBLISHED-TTL:PT1H
BEGIN:VTIMEZONE
TZID:UTC
BEGIN:STANDARD
TZOFFSETFROM:+0000
TZOFFSETTO:+0000
TZNAME:UTC
DTSTART:20170101T000000
END:STANDARD
END:VTIMEZONE
BEGIN:VEVENT
DTSTART;TZID=UTC:20211016T080000
DTEND;TZID=UTC:20211016T170000
DTSTAMP:20260426T021456
CREATED:20210312T190126Z
LAST-MODIFIED:20210513T132618Z
UID:24110-1634371200-1634403600@dandridgetn.gov
SUMMARY:White Pine Marine Trail
DESCRIPTION:
URL:https://dandridgetn.gov/event/white-pine-marine-trail-2/
LOCATION:Shores of Loch Douglas\, 121 Public Drive\, Dandridge\, TN\, 37725\, United States
ATTACH;FMTTYPE=image/jpeg:https://dandridgetn.gov/wp-content/uploads/2021/03/WhitePineMarineTrail.jpg
END:VEVENT
BEGIN:VEVENT
DTSTART;VALUE=DATE:20211008
DTEND;VALUE=DATE:20211011
DTSTAMP:20260426T021456
CREATED:20210312T185959Z
LAST-MODIFIED:20210312T185959Z
UID:24108-1633651200-1633910399@dandridgetn.gov
SUMMARY:Big Bass
DESCRIPTION:
URL:https://dandridgetn.gov/event/big-bass/
LOCATION:Shores of Loch Douglas\, 121 Public Drive\, Dandridge\, TN\, 37725\, United States
END:VEVENT
BEGIN:VEVENT
DTSTART;TZID=UTC:20210930T180000
DTEND;TZID=UTC:20210930T210000
DTSTAMP:20260426T021456
CREATED:20210312T185907Z
LAST-MODIFIED:20210316T115053Z
UID:24106-1633024800-1633035600@dandridgetn.gov
SUMMARY:Music on the Town - The Tams
DESCRIPTION:
URL:https://dandridgetn.gov/event/music-on-the-town-the-tams-2/
LOCATION:Town Hall\, 131 E Main Street\, Dandridge\, TN\, 37725\, United States
ATTACH;FMTTYPE=image/png:https://dandridgetn.gov/wp-content/uploads/2015/03/Music-on-the-Town-Logo-Revised.png
END:VEVENT
BEGIN:VEVENT
DTSTART;VALUE=DATE:20210925
DTEND;VALUE=DATE:20210926
DTSTAMP:20260426T021456
CREATED:20190730T122021Z
LAST-MODIFIED:20210316T114910Z
UID:17328-1632528000-1632614399@dandridgetn.gov
SUMMARY:Scots-Irish Festival
DESCRIPTION:Visit the Dandridge Scots-Irish website for all up to date information!
URL:https://dandridgetn.gov/event/scots-irish-festival-3/
LOCATION:Downtown Dandridge\, Dandridge\, TN\, 37725\, United States
ATTACH;FMTTYPE=image/png:https://dandridgetn.gov/wp-content/uploads/2019/07/download.png
END:VEVENT
BEGIN:VEVENT
DTSTART;TZID=UTC:20210923T180000
DTEND;TZID=UTC:20210923T210000
DTSTAMP:20260426T021456
CREATED:20210312T185756Z
LAST-MODIFIED:20210316T114726Z
UID:24104-1632420000-1632430800@dandridgetn.gov
SUMMARY:Music on the Town - Blue Highway
DESCRIPTION:
URL:https://dandridgetn.gov/event/music-on-the-town-blue-highway/
LOCATION:Town Hall\, 131 E Main Street\, Dandridge\, TN\, 37725\, United States
ATTACH;FMTTYPE=image/png:https://dandridgetn.gov/wp-content/uploads/2015/03/Music-on-the-Town-Logo-Revised.png
END:VEVENT
BEGIN:VEVENT
DTSTART;TZID=UTC:20210916T180000
DTEND;TZID=UTC:20210916T210000
DTSTAMP:20260426T021456
CREATED:20210312T185718Z
LAST-MODIFIED:20210316T115235Z
UID:24102-1631815200-1631826000@dandridgetn.gov
SUMMARY:Music on the Town - Breaking Grass
DESCRIPTION:
URL:https://dandridgetn.gov/event/music-on-the-town-breaking-grass-2/
LOCATION:Town Hall\, 131 E Main Street\, Dandridge\, TN\, 37725\, United States
ATTACH;FMTTYPE=image/png:https://dandridgetn.gov/wp-content/uploads/2015/03/Music-on-the-Town-Logo-Revised.png
END:VEVENT
BEGIN:VEVENT
DTSTART;TZID=UTC:20210911T080000
DTEND;TZID=UTC:20210911T170000
DTSTAMP:20260426T021456
CREATED:20210312T184604Z
LAST-MODIFIED:20210312T184604Z
UID:24094-1631347200-1631379600@dandridgetn.gov
SUMMARY:Tennessee Team Trail
DESCRIPTION:
URL:https://dandridgetn.gov/event/tennessee-team-trail/
LOCATION:Shores of Loch Douglas\, 121 Public Drive\, Dandridge\, TN\, 37725\, United States
END:VEVENT
BEGIN:VEVENT
DTSTART;TZID=UTC:20210909T180000
DTEND;TZID=UTC:20210909T210000
DTSTAMP:20260426T021456
CREATED:20210312T185350Z
LAST-MODIFIED:20210316T115344Z
UID:24100-1631210400-1631221200@dandridgetn.gov
SUMMARY:Music on the Town - The Grascals
DESCRIPTION:
URL:https://dandridgetn.gov/event/music-on-the-town-the-grascals/
LOCATION:Town Hall\, 131 E Main Street\, Dandridge\, TN\, 37725\, United States
ATTACH;FMTTYPE=image/png:https://dandridgetn.gov/wp-content/uploads/2015/03/Music-on-the-Town-Logo-Revised.png
END:VEVENT
BEGIN:VEVENT
DTSTART;TZID=UTC:20210904T090000
DTEND;TZID=UTC:20210904T160000
DTSTAMP:20260426T021456
CREATED:20210610T152628Z
LAST-MODIFIED:20210610T152628Z
UID:24985-1630746000-1630771200@dandridgetn.gov
SUMMARY:Holiday / Fall Shopping Expo
DESCRIPTION:Come visit the Holiday / Fall Shopping Expo at the Field of Dreams Activity Center.  Over 130 vendors will be on hand with unique gifts\, home décor\, and more!  The expo will run from 9:00am to 4:00pm on Saturday\, September 4th\, 2021.
URL:https://dandridgetn.gov/event/holiday-fall-shopping-expo/
LOCATION:Field of Dreams Activity Center\, 1145 Treadway Drive\, Dandridge\, TN\, 37725\, United States
ATTACH;FMTTYPE=image/jpeg:https://dandridgetn.gov/wp-content/uploads/2021/06/199093122_10225804305445001_8986268293029133695_n.jpg
END:VEVENT
BEGIN:VEVENT
DTSTART;TZID=UTC:20210902T180000
DTEND;TZID=UTC:20210902T210000
DTSTAMP:20260426T021456
CREATED:20210312T185038Z
LAST-MODIFIED:20210316T114047Z
UID:24098-1630605600-1630616400@dandridgetn.gov
SUMMARY:Music on the Town - Band of Oz
DESCRIPTION:
URL:https://dandridgetn.gov/event/music-on-the-town-band-of-oz-2/
LOCATION:Town Hall\, 131 E Main Street\, Dandridge\, TN\, 37725\, United States
ATTACH;FMTTYPE=image/png:https://dandridgetn.gov/wp-content/uploads/2015/03/Music-on-the-Town-Logo-Revised.png
END:VEVENT
BEGIN:VEVENT
DTSTART;TZID=UTC:20210826T180000
DTEND;TZID=UTC:20210826T210000
DTSTAMP:20260426T021456
CREATED:20210312T184837Z
LAST-MODIFIED:20210316T115315Z
UID:24096-1630000800-1630011600@dandridgetn.gov
SUMMARY:Music on the Town - Balsam Range
DESCRIPTION:
URL:https://dandridgetn.gov/event/music-on-the-town-balsam-range/
LOCATION:Town Hall\, 131 E Main Street\, Dandridge\, TN\, 37725\, United States
ATTACH;FMTTYPE=image/png:https://dandridgetn.gov/wp-content/uploads/2015/03/Music-on-the-Town-Logo-Revised.png
END:VEVENT
BEGIN:VEVENT
DTSTART;VALUE=DATE:20210612
DTEND;VALUE=DATE:20210613
DTSTAMP:20260426T021456
CREATED:20210312T184105Z
LAST-MODIFIED:20210312T184105Z
UID:24088-1623456000-1623542399@dandridgetn.gov
SUMMARY:Triathlon
DESCRIPTION:
URL:https://dandridgetn.gov/event/triathlon/
LOCATION:TN
END:VEVENT
BEGIN:VEVENT
DTSTART;VALUE=DATE:20210605
DTEND;VALUE=DATE:20210606
DTSTAMP:20260426T021456
CREATED:20210312T180653Z
LAST-MODIFIED:20210312T180653Z
UID:24084-1622851200-1622937599@dandridgetn.gov
SUMMARY:Summer Shopping Expo
DESCRIPTION:
URL:https://dandridgetn.gov/event/summer-shopping-expo/
LOCATION:Field of Dreams Activity Center\, 1145 Treadway Drive\, Dandridge\, TN\, 37725\, United States
END:VEVENT
BEGIN:VEVENT
DTSTART;VALUE=DATE:20210522
DTEND;VALUE=DATE:20210523
DTSTAMP:20260426T021456
CREATED:20210312T180555Z
LAST-MODIFIED:20210316T112957Z
UID:24082-1621641600-1621727999@dandridgetn.gov
SUMMARY:White Pine Marine Trail
DESCRIPTION:
URL:https://dandridgetn.gov/event/white-pine-marine-trail/
LOCATION:Shores of Loch Douglas\, 121 Public Drive\, Dandridge\, TN\, 37725\, United States
ATTACH;FMTTYPE=image/jpeg:https://dandridgetn.gov/wp-content/uploads/2021/03/WhitePineMarineTrail.jpg
END:VEVENT
BEGIN:VEVENT
DTSTART;VALUE=DATE:20210518
DTEND;VALUE=DATE:20210522
DTSTAMP:20260426T021456
CREATED:20210312T180515Z
LAST-MODIFIED:20210316T112846Z
UID:24080-1621296000-1621641599@dandridgetn.gov
SUMMARY:Southeast Region Mine Rescue Contest
DESCRIPTION:
URL:https://dandridgetn.gov/event/southeast-region-mine-rescue-contest/
LOCATION:Field of Dreams Activity Center\, 1145 Treadway Drive\, Dandridge\, TN\, 37725\, United States
ATTACH;FMTTYPE=image/jpeg:https://dandridgetn.gov/wp-content/uploads/2021/03/118535291_125906059227993_6625633599472140204_o.jpg
END:VEVENT
BEGIN:VEVENT
DTSTART;VALUE=DATE:20210501
DTEND;VALUE=DATE:20210502
DTSTAMP:20260426T021456
CREATED:20210312T175713Z
LAST-MODIFIED:20210316T113642Z
UID:24073-1619827200-1619913599@dandridgetn.gov
SUMMARY:Bass Fishing League - Volunteer Division
DESCRIPTION:The Phoenix BFL Volunteer Division Tournament takes on Douglas Lake\, May 1\, 2021.
URL:https://dandridgetn.gov/event/bass-fishing-league-volunteer-division/
LOCATION:Shores of Loch Douglas\, 121 Public Drive\, Dandridge\, TN\, 37725\, United States
ATTACH;FMTTYPE=image/jpeg:https://dandridgetn.gov/wp-content/uploads/2021/03/fullsizeoutput_1d74.jpeg
END:VEVENT
BEGIN:VEVENT
DTSTART;VALUE=DATE:20210424
DTEND;VALUE=DATE:20210425
DTSTAMP:20260426T021456
CREATED:20210312T180355Z
LAST-MODIFIED:20210316T113600Z
UID:24078-1619222400-1619308799@dandridgetn.gov
SUMMARY:Morristown Marine Trail
DESCRIPTION:
URL:https://dandridgetn.gov/event/morristown-marine-trail/
LOCATION:Shores of Loch Douglas\, 121 Public Drive\, Dandridge\, TN\, 37725\, United States
ATTACH;FMTTYPE=image/jpeg:https://dandridgetn.gov/wp-content/uploads/2021/03/72161679_10156472666072665_3575707810341584896_n.jpg
END:VEVENT
BEGIN:VEVENT
DTSTART;VALUE=DATE:20210415
DTEND;VALUE=DATE:20210418
DTSTAMP:20260426T021456
CREATED:20210312T175532Z
LAST-MODIFIED:20210316T121205Z
UID:24071-1618444800-1618703999@dandridgetn.gov
SUMMARY:Bassmasters Southern Open
DESCRIPTION:The Bassmaster Southern Open return to Douglas Lake\, April 15-17\, 2021.
URL:https://dandridgetn.gov/event/bassmasters-southern-open/
LOCATION:Shores of Loch Douglas\, 121 Public Drive\, Dandridge\, TN\, 37725\, United States
ATTACH;FMTTYPE=image/png:https://dandridgetn.gov/wp-content/uploads/2021/03/BassOpen.png
END:VEVENT
BEGIN:VEVENT
DTSTART;VALUE=DATE:20210327
DTEND;VALUE=DATE:20210328
DTSTAMP:20260426T021456
CREATED:20210312T175307Z
LAST-MODIFIED:20210316T112749Z
UID:24068-1616803200-1616889599@dandridgetn.gov
SUMMARY:Tennessee Kayak Anglers Trail
DESCRIPTION:The TN Kayak Anglers Tournament Trail stops at Douglas Lake\, March 27\, 2021. \nVisit their FACEBOOK page for more information or send an email to:\ntnkatt2019@gmail.com
URL:https://dandridgetn.gov/event/tennessee-kayak-anglers-trail/
LOCATION:Shores of Loch Douglas\, 121 Public Drive\, Dandridge\, TN\, 37725\, United States
ATTACH;FMTTYPE=image/jpeg:https://dandridgetn.gov/wp-content/uploads/2021/03/83586429_2654048234673193_5498621748876148736_o.jpg
END:VEVENT
BEGIN:VEVENT
DTSTART;VALUE=DATE:20210327
DTEND;VALUE=DATE:20210328
DTSTAMP:20260426T021456
CREATED:20210312T175104Z
LAST-MODIFIED:20210316T112656Z
UID:24066-1616803200-1616889599@dandridgetn.gov
SUMMARY:American Bass Anglers - East Division
DESCRIPTION:The American Bass Anglers\, Bass Pro Shops Open Series – East Tennessee Division will be on Douglas Lake and the Dandridge Boat Dock and Ramp March 27\, 2021
URL:https://dandridgetn.gov/event/american-bass-anglers-east-division/
LOCATION:Shores of Loch Douglas\, 121 Public Drive\, Dandridge\, TN\, 37725\, United States
ATTACH;FMTTYPE=image/gif:https://dandridgetn.gov/wp-content/uploads/2021/03/ABAMainLogo.gif
END:VEVENT
BEGIN:VEVENT
DTSTART;VALUE=DATE:20210320
DTEND;VALUE=DATE:20210321
DTSTAMP:20260426T021456
CREATED:20210312T171809Z
LAST-MODIFIED:20210316T112551Z
UID:24057-1616198400-1616284799@dandridgetn.gov
SUMMARY:White Pine Team Trail
DESCRIPTION:The White Pine Marine Trail stops at Douglas Lake on March 20\, 2021. \nVisit https://whitepinemarine.com/tournament-trail/ for more information.
URL:https://dandridgetn.gov/event/white-pine-marine-trail-fishing-event/
LOCATION:Shores of Loch Douglas\, 121 Public Drive\, Dandridge\, TN\, 37725\, United States
ATTACH;FMTTYPE=image/jpeg:https://dandridgetn.gov/wp-content/uploads/2021/03/WhitePineMarineTrail.jpg
END:VEVENT
BEGIN:VEVENT
DTSTART;TZID=UTC:20191003T180000
DTEND;TZID=UTC:20191003T210000
DTSTAMP:20260426T021456
CREATED:20190730T121543Z
LAST-MODIFIED:20190730T121543Z
UID:17326-1570125600-1570136400@dandridgetn.gov
SUMMARY:Music on the Town - Gibson Brothers
DESCRIPTION:Music on the Town is proud to present the Gibson Brothers! \nFood Service: \nFood service begins at 6:00pm \nPause for a Patriot Ceremony begins at 6:45pm directly followed by the show. \nLocated at the performance pavilion located behind Town Hall\, Music on the Town enters its 15th season with an exciting lineup of award winning talent.   Please visit www.musiconthetown.com for all information
URL:https://dandridgetn.gov/event/music-on-the-town-gibson-brothers/
LOCATION:Town Hall\, 131 E Main Street\, Dandridge\, TN\, 37725\, United States
END:VEVENT
BEGIN:VEVENT
DTSTART;TZID=UTC:20190926T080000
DTEND;TZID=UTC:20190926T170000
DTSTAMP:20260426T021456
CREATED:20190730T121239Z
LAST-MODIFIED:20190730T121239Z
UID:17324-1569484800-1569517200@dandridgetn.gov
SUMMARY:Music on the Town - Band of Oz
DESCRIPTION:Music on the Town is proud to present Band of Oz! \nFood Service: \nFood service begins at 6:00pm \nPause for a Patriot Ceremony begins at 6:45pm directly followed by the show. \nLocated at the performance pavilion located behind Town Hall\, Music on the Town enters its 15th season with an exciting lineup of award winning talent.   Please visit www.musiconthetown.com for all information
URL:https://dandridgetn.gov/event/music-on-the-town-band-of-oz/
LOCATION:Field of Dreams SJLL\, 1110 Treadway Drive\, Dandridge\, 37725\, United States
END:VEVENT
BEGIN:VEVENT
DTSTART;TZID=UTC:20190919T180000
DTEND;TZID=UTC:20190919T210000
DTSTAMP:20260426T021456
CREATED:20190730T121132Z
LAST-MODIFIED:20190730T121402Z
UID:17322-1568916000-1568926800@dandridgetn.gov
SUMMARY:Music on the Town - Breaking Grass
DESCRIPTION:Music on the Town is proud to present Breaking Grass! \nFood Service: Tinsley Bible Drug Store \nFood service begins at 6:00pm \nPause for a Patriot Ceremony begins at 6:45pm directly followed by the show. \nLocated at the performance pavilion located behind Town Hall\, Music on the Town enters its 15th season with an exciting lineup of award winning talent.   Please visit www.musiconthetown.com for all information
URL:https://dandridgetn.gov/event/music-on-the-town-breaking-grass/
LOCATION:Town Hall\, 131 E Main Street\, Dandridge\, TN\, 37725\, United States
END:VEVENT
BEGIN:VEVENT
DTSTART;TZID=UTC:20190912T180000
DTEND;TZID=UTC:20190912T210000
DTSTAMP:20260426T021456
CREATED:20190730T120955Z
LAST-MODIFIED:20190730T120955Z
UID:17320-1568311200-1568322000@dandridgetn.gov
SUMMARY:Music on the Town - Russell Moore & IIIrd Tyme Out
DESCRIPTION:Music on the Town is proud to present Russell Moore & IIIrd Tyme Out! \nFood Service: Veterans of Foreign Wars \nFood service begins at 6:00pm \nPause for a Patriot Ceremony begins at 6:45pm directly followed by the show. \nLocated at the performance pavilion located behind Town Hall\, Music on the Town enters its 15th season with an exciting lineup of award winning talent.   Please visit www.musiconthetown.com for all information
URL:https://dandridgetn.gov/event/music-on-the-town-russell-moore-iiird-tyme-out/
LOCATION:Town Hall\, 131 E Main Street\, Dandridge\, TN\, 37725\, United States
END:VEVENT
BEGIN:VEVENT
DTSTART;TZID=UTC:20190905T180000
DTEND;TZID=UTC:20190905T210000
DTSTAMP:20260426T021456
CREATED:20190730T120749Z
LAST-MODIFIED:20190730T120749Z
UID:17318-1567706400-1567717200@dandridgetn.gov
SUMMARY:Music on the Town - Joe Mullins & The Radio Ramblers
DESCRIPTION:Music on the Town is proud to present Joe Mullins & The Radio Ramblers! \nFood Service: Holy Smoke BBQ \nFood service begins at 6:00pm \nPause for a Patriot Ceremony begins at 6:45pm directly followed by the show. \nLocated at the performance pavilion located behind Town Hall\, Music on the Town enters its 15th season with an exciting lineup of award winning talent.   Please visit www.musiconthetown.com for all information
URL:https://dandridgetn.gov/event/music-on-the-town-joe-mullins-the-radio-ramblers/
LOCATION:Town Hall\, 131 E Main Street\, Dandridge\, TN\, 37725\, United States
END:VEVENT
BEGIN:VEVENT
DTSTART;TZID=UTC:20190829T180000
DTEND;TZID=UTC:20190829T210000
DTSTAMP:20260426T021456
CREATED:20190730T120457Z
LAST-MODIFIED:20190730T120457Z
UID:17316-1567101600-1567112400@dandridgetn.gov
SUMMARY:Music on the Town - The Tams
DESCRIPTION:Music on the Town is proud to present The Tams! \nFood Service: Jefferson County Rescue Squad \nFood service begins at 6:00pm \nPause for a Patriot Ceremony begins at 6:45pm directly followed by the show. \nLocated at the performance pavilion located behind Town Hall\, Music on the Town enters its 15th season with an exciting lineup of award winning talent.   Please visit www.musiconthetown.com for all information
URL:https://dandridgetn.gov/event/music-on-the-town-the-tams/
LOCATION:Town Hall\, 131 E Main Street\, Dandridge\, TN\, 37725\, United States
END:VEVENT
BEGIN:VEVENT
DTSTART;VALUE=DATE:20190101
DTEND;VALUE=DATE:20190102
DTSTAMP:20260426T021456
CREATED:20181109T175046Z
LAST-MODIFIED:20181109T175046Z
UID:17014-1546300800-1546387199@dandridgetn.gov
SUMMARY:New Year's Day
DESCRIPTION:Town offices will be closed
URL:https://dandridgetn.gov/event/new-years-day/
LOCATION:TN
END:VEVENT
BEGIN:VEVENT
DTSTART;VALUE=DATE:20181225
DTEND;VALUE=DATE:20181226
DTSTAMP:20260426T021456
CREATED:20181109T175014Z
LAST-MODIFIED:20181109T175014Z
UID:17012-1545696000-1545782399@dandridgetn.gov
SUMMARY:Christmas Day
DESCRIPTION:Town offices will be closed
URL:https://dandridgetn.gov/event/christmas-day/
LOCATION:TN
END:VEVENT
BEGIN:VEVENT
DTSTART;TZID=UTC:20181130T180000
DTEND;TZID=UTC:20181130T190000
DTSTAMP:20260426T021456
CREATED:20181109T174758Z
LAST-MODIFIED:20181109T174758Z
UID:17006-1543600800-1543604400@dandridgetn.gov
SUMMARY:Christmas Tree Lighting Ceremony
DESCRIPTION:Held on the steps of the Jefferson County Courthouse\, come join us as we kick off the Christmas Season in Dandridge!  The Tree Lighting Ceremony will begin at 6:00pm as Pastor Stephen Brown  will preside and Mayor George Gantte will be lighting the tree.
URL:https://dandridgetn.gov/event/christmas-tree-lighting-ceremony/
LOCATION:Downtown Dandridge\, Dandridge\, TN\, 37725\, United States
END:VEVENT
END:VCALENDAR