BEGIN:VCALENDAR
VERSION:2.0
PRODID:-//Town Of Dandridge Tennessee - ECPv6.15.20//NONSGML v1.0//EN
CALSCALE:GREGORIAN
METHOD:PUBLISH
X-WR-CALNAME:Town Of Dandridge Tennessee
X-ORIGINAL-URL:https://dandridgetn.gov
X-WR-CALDESC:Events for Town Of Dandridge Tennessee
REFRESH-INTERVAL;VALUE=DURATION:PT1H
X-Robots-Tag:noindex
X-PUBLISHED-TTL:PT1H
BEGIN:VTIMEZONE
TZID:UTC
BEGIN:STANDARD
TZOFFSETFROM:+0000
TZOFFSETTO:+0000
TZNAME:UTC
DTSTART:20200101T000000
END:STANDARD
END:VTIMEZONE
BEGIN:VTIMEZONE
TZID:America/New_York
BEGIN:DAYLIGHT
TZOFFSETFROM:-0500
TZOFFSETTO:-0400
TZNAME:EDT
DTSTART:20210314T070000
END:DAYLIGHT
BEGIN:STANDARD
TZOFFSETFROM:-0400
TZOFFSETTO:-0500
TZNAME:EST
DTSTART:20211107T060000
END:STANDARD
BEGIN:DAYLIGHT
TZOFFSETFROM:-0500
TZOFFSETTO:-0400
TZNAME:EDT
DTSTART:20220313T070000
END:DAYLIGHT
BEGIN:STANDARD
TZOFFSETFROM:-0400
TZOFFSETTO:-0500
TZNAME:EST
DTSTART:20221106T060000
END:STANDARD
BEGIN:DAYLIGHT
TZOFFSETFROM:-0500
TZOFFSETTO:-0400
TZNAME:EDT
DTSTART:20230312T070000
END:DAYLIGHT
BEGIN:STANDARD
TZOFFSETFROM:-0400
TZOFFSETTO:-0500
TZNAME:EST
DTSTART:20231105T060000
END:STANDARD
END:VTIMEZONE
BEGIN:VEVENT
DTSTART;TZID=UTC:20230610T100000
DTEND;TZID=UTC:20230611T160000
DTSTAMP:20260425T155803
CREATED:20230601T114538Z
LAST-MODIFIED:20230601T114538Z
UID:36350-1686391200-1686499200@dandridgetn.gov
SUMMARY:Espresso Exotic Animal Expo
DESCRIPTION:
URL:https://dandridgetn.gov/event/espresso-exotic-animal-expo/
LOCATION:Field of Dreams Activity Center\, 1145 Treadway Drive\, Dandridge\, TN\, 37725\, United States
ATTACH;FMTTYPE=image/webp:https://dandridgetn.gov/wp-content/uploads/2023/06/Exotic-animal-expo.webp
END:VEVENT
BEGIN:VEVENT
DTSTART;VALUE=DATE:20230602
DTEND;VALUE=DATE:20230604
DTSTAMP:20260425T155803
CREATED:20230315T115736Z
LAST-MODIFIED:20230315T115823Z
UID:36250-1685664000-1685836799@dandridgetn.gov
SUMMARY:TN BASS National High School and Youth State Championship
DESCRIPTION:
URL:https://dandridgetn.gov/event/tn-bass-national-high-school-and-youth-state-championship/
LOCATION:Dandridge Dock\, 257 Public Drive\, Dandridge\, TN\, 37725\, United States
ATTACH;FMTTYPE=image/png:https://dandridgetn.gov/wp-content/uploads/2023/03/cropped-tnhsbass-logo-retina-oinpv3mp5l4epa1puh7i49oyhc1cedvyji1lau4pvi.png
END:VEVENT
BEGIN:VEVENT
DTSTART;TZID=UTC:20230529T110000
DTEND;TZID=UTC:20230529T120000
DTSTAMP:20260425T155803
CREATED:20230524T200301Z
LAST-MODIFIED:20230524T200301Z
UID:36337-1685358000-1685361600@dandridgetn.gov
SUMMARY:Memorial Day Celebration
DESCRIPTION:
URL:https://dandridgetn.gov/event/memorial-day-celebration/
LOCATION:Downtown Dandridge\, Dandridge\, TN\, 37725\, United States
ATTACH;FMTTYPE=image/jpeg:https://dandridgetn.gov/wp-content/uploads/2023/05/Memorial-Day-Celebration.jpg
END:VEVENT
BEGIN:VEVENT
DTSTART;VALUE=DATE:20230524
DTEND;VALUE=DATE:20230527
DTSTAMP:20260425T155803
CREATED:20230315T115316Z
LAST-MODIFIED:20230315T115316Z
UID:36247-1684886400-1685145599@dandridgetn.gov
SUMMARY:B.A.S.S. Nation Southeast Regional Championship
DESCRIPTION:
URL:https://dandridgetn.gov/event/b-a-s-s-nation-southeast-regional-championship/
LOCATION:Dandridge Dock\, 257 Public Drive\, Dandridge\, TN\, 37725\, United States
ATTACH;FMTTYPE=image/webp:https://dandridgetn.gov/wp-content/uploads/2023/03/nation_shield_lg.webp
END:VEVENT
BEGIN:VEVENT
DTSTART;TZID=UTC:20230518T110000
DTEND;TZID=UTC:20230518T130000
DTSTAMP:20260425T155803
CREATED:20230315T121614Z
LAST-MODIFIED:20230315T121614Z
UID:36254-1684407600-1684414800@dandridgetn.gov
SUMMARY:Veterans Mobile Food Pantry
DESCRIPTION:
URL:https://dandridgetn.gov/event/veterans-mobile-food-pantry/
LOCATION:Field of Dreams Activity Center\, 1145 Treadway Drive\, Dandridge\, TN\, 37725\, United States
ATTACH;FMTTYPE=image/jpeg:https://dandridgetn.gov/wp-content/uploads/2023/03/food-pantry.jpg
END:VEVENT
BEGIN:VEVENT
DTSTART;VALUE=DATE:20230513
DTEND;VALUE=DATE:20230514
DTSTAMP:20260425T155803
CREATED:20230315T114401Z
LAST-MODIFIED:20230315T114401Z
UID:36245-1683936000-1684022399@dandridgetn.gov
SUMMARY:White Pine Marine Trail
DESCRIPTION:
URL:https://dandridgetn.gov/event/white-pine-marine-trail-5/
LOCATION:Dandridge Dock\, 257 Public Drive\, Dandridge\, TN\, 37725\, United States
ATTACH;FMTTYPE=image/jpeg:https://dandridgetn.gov/wp-content/uploads/2021/03/WhitePineMarineTrail.jpg
END:VEVENT
BEGIN:VEVENT
DTSTART;VALUE=DATE:20230422
DTEND;VALUE=DATE:20230424
DTSTAMP:20260425T155803
CREATED:20230315T130630Z
LAST-MODIFIED:20230315T130630Z
UID:36273-1682121600-1682294399@dandridgetn.gov
SUMMARY:Home & Garden Show
DESCRIPTION:
URL:https://dandridgetn.gov/event/home-garden-show/
LOCATION:Field of Dreams Activity Center\, 1145 Treadway Drive\, Dandridge\, TN\, 37725\, United States
ATTACH;FMTTYPE=application/pdf:https://dandridgetn.gov/wp-content/uploads/2023/03/Scan_0008.pdf
END:VEVENT
BEGIN:VEVENT
DTSTART;VALUE=DATE:20230401
DTEND;VALUE=DATE:20230403
DTSTAMP:20260425T155803
CREATED:20230315T125739Z
LAST-MODIFIED:20230315T125739Z
UID:36270-1680307200-1680479999@dandridgetn.gov
SUMMARY:Spring Shopping Expo
DESCRIPTION:
URL:https://dandridgetn.gov/event/spring-shopping-expo/
LOCATION:Field of Dreams Activity Center\, 1145 Treadway Drive\, Dandridge\, TN\, 37725\, United States
ATTACH;FMTTYPE=image/jpeg:https://dandridgetn.gov/wp-content/uploads/2023/03/April-23-Shopping-Expo.jpg
END:VEVENT
BEGIN:VEVENT
DTSTART;VALUE=DATE:20230327
DTEND;VALUE=DATE:20230331
DTSTAMP:20260425T155803
CREATED:20230315T113801Z
LAST-MODIFIED:20230315T113801Z
UID:36240-1679875200-1680220799@dandridgetn.gov
SUMMARY:Southeast Region Mine Rescue Contest
DESCRIPTION:
URL:https://dandridgetn.gov/event/southeast-region-mine-rescue-contest-2/
LOCATION:Field of Dreams Activity Center\, 1145 Treadway Drive\, Dandridge\, TN\, 37725\, United States
ATTACH;FMTTYPE=image/jpeg:https://dandridgetn.gov/wp-content/uploads/2021/03/118535291_125906059227993_6625633599472140204_o.jpg
END:VEVENT
BEGIN:VEVENT
DTSTART;TZID=UTC:20230325T100000
DTEND;TZID=UTC:20230325T180000
DTSTAMP:20260425T155803
CREATED:20230315T114142Z
LAST-MODIFIED:20230315T114142Z
UID:36242-1679738400-1679767200@dandridgetn.gov
SUMMARY:Spirit of Nations POW WOW
DESCRIPTION:
URL:https://dandridgetn.gov/event/spirit-of-nations-pow-wow/
LOCATION:TN
ATTACH;FMTTYPE=image/jpeg:https://dandridgetn.gov/wp-content/uploads/2023/03/spirit-of-nations.jpeg
END:VEVENT
BEGIN:VEVENT
DTSTART;TZID=UTC:20230325T090000
DTEND;TZID=UTC:20230325T150000
DTSTAMP:20260425T155803
CREATED:20230320T122716Z
LAST-MODIFIED:20230320T122716Z
UID:36277-1679734800-1679756400@dandridgetn.gov
SUMMARY:Die Cast & Toy Show
DESCRIPTION:
URL:https://dandridgetn.gov/event/die-cast-toy-show/
LOCATION:Field of Dreams Activity Center\, 1145 Treadway Drive\, Dandridge\, TN\, 37725\, United States
ATTACH;FMTTYPE=image/jpeg:https://dandridgetn.gov/wp-content/uploads/2023/03/DieCast-Toy-Show.jpg
END:VEVENT
BEGIN:VEVENT
DTSTART;VALUE=DATE:20230318
DTEND;VALUE=DATE:20230320
DTSTAMP:20260425T155803
CREATED:20230315T113608Z
LAST-MODIFIED:20230315T113608Z
UID:36236-1679097600-1679270399@dandridgetn.gov
SUMMARY:Major League Fishing Bass Pro Tour
DESCRIPTION:
URL:https://dandridgetn.gov/event/major-league-fishing-bass-pro-tour/
LOCATION:Dandridge Dock\, 257 Public Drive\, Dandridge\, TN\, 37725\, United States
ATTACH;FMTTYPE=image/webp:https://dandridgetn.gov/wp-content/uploads/2023/03/BPS-MLF-Bass-Pro-Tour-Logo_V2.webp
END:VEVENT
BEGIN:VEVENT
DTSTART;VALUE=DATE:20230225
DTEND;VALUE=DATE:20230226
DTSTAMP:20260425T155803
CREATED:20230315T113051Z
LAST-MODIFIED:20230315T113051Z
UID:36234-1677283200-1677369599@dandridgetn.gov
SUMMARY:White Pine Marine Trail
DESCRIPTION:
URL:https://dandridgetn.gov/event/white-pine-marine-trail-4/
LOCATION:Dandridge Dock\, 257 Public Drive\, Dandridge\, TN\, 37725\, United States
ATTACH;FMTTYPE=image/jpeg:https://dandridgetn.gov/wp-content/uploads/2021/03/WhitePineMarineTrail-1.jpg
END:VEVENT
BEGIN:VEVENT
DTSTART;TZID=UTC:20221203T090000
DTEND;TZID=UTC:20221203T160000
DTSTAMP:20260425T155803
CREATED:20220811T173922Z
LAST-MODIFIED:20220811T174908Z
UID:33154-1670058000-1670083200@dandridgetn.gov
SUMMARY:Christmas Shopping Expo
DESCRIPTION:Saturday\, December 3rd from 9:00am to 4:00pm \nSunday\, December 4th from 10:00am to 4:00pm \nCome visit the Field of Dreams Activity Center for the Christmas Shopping Expo! \n140 Vendors Featuring boutiques\, crafts\, artisans\, retail\, baked goods\, and more….
URL:https://dandridgetn.gov/event/christmas-shopping-expo-2/
LOCATION:Field of Dreams Activity Center\, 1145 Treadway Drive\, Dandridge\, TN\, 37725\, United States
ATTACH;FMTTYPE=image/jpeg:https://dandridgetn.gov/wp-content/uploads/2022/08/Shopping-Expo-2022.jpg
END:VEVENT
BEGIN:VEVENT
DTSTART;VALUE=DATE:20221022
DTEND;VALUE=DATE:20221023
DTSTAMP:20260425T155803
CREATED:20220811T172803Z
LAST-MODIFIED:20221006T105206Z
UID:33152-1666396800-1666483199@dandridgetn.gov
SUMMARY:Morristown Marine Trail Championship
DESCRIPTION:
URL:https://dandridgetn.gov/event/morristown-marine-trail-championship/
LOCATION:Shores of Loch Douglas\, 121 Public Drive\, Dandridge\, TN\, 37725\, United States
ATTACH;FMTTYPE=image/jpeg:https://dandridgetn.gov/wp-content/uploads/2021/03/72161679_10156472666072665_3575707810341584896_n.jpg
END:VEVENT
BEGIN:VEVENT
DTSTART;VALUE=DATE:20221015
DTEND;VALUE=DATE:20221016
DTSTAMP:20260425T155803
CREATED:20220811T172729Z
LAST-MODIFIED:20220811T172729Z
UID:33150-1665792000-1665878399@dandridgetn.gov
SUMMARY:Tennessee Team Trail Championship
DESCRIPTION:
URL:https://dandridgetn.gov/event/tennessee-team-trail-championship/
LOCATION:Shores of Loch Douglas\, 121 Public Drive\, Dandridge\, TN\, 37725\, United States
END:VEVENT
BEGIN:VEVENT
DTSTART;TZID=UTC:20221013T080000
DTEND;TZID=UTC:20221013T170000
DTSTAMP:20260425T155803
CREATED:20220602T142544Z
LAST-MODIFIED:20220602T142544Z
UID:30616-1665648000-1665680400@dandridgetn.gov
SUMMARY:Music On The Town - Adam Sanders
DESCRIPTION:Schedule of Events: \n6:45pm – National Anthem / Pause For A Patriot Ceremony \n7:00pm – Adam Sanders
URL:https://dandridgetn.gov/event/music-on-the-town-adam-sanders/
LOCATION:Downtown Dandridge\, Dandridge\, TN\, 37725\, United States
ATTACH;FMTTYPE=image/png:https://dandridgetn.gov/wp-content/uploads/2015/03/Music-on-the-Town-Logo-Revised.png
END:VEVENT
BEGIN:VEVENT
DTSTART;TZID=UTC:20221006T190000
DTEND;TZID=UTC:20221006T210000
DTSTAMP:20260425T155803
CREATED:20220602T142259Z
LAST-MODIFIED:20220602T142259Z
UID:30613-1665082800-1665090000@dandridgetn.gov
SUMMARY:Music On The Town - Lonesome River Band
DESCRIPTION:Schedule of Events: \n6:45pm – National Anthem / Pause For A Patriot Ceremony \n7:00pm – Lonesome River Band
URL:https://dandridgetn.gov/event/music-on-the-town-lonesome-river-band/
LOCATION:Downtown Dandridge\, Dandridge\, TN\, 37725\, United States
ATTACH;FMTTYPE=image/png:https://dandridgetn.gov/wp-content/uploads/2015/03/Music-on-the-Town-Logo-Revised.png
END:VEVENT
BEGIN:VEVENT
DTSTART;VALUE=DATE:20221006
DTEND;VALUE=DATE:20221007
DTSTAMP:20260425T155803
CREATED:20220811T172632Z
LAST-MODIFIED:20220811T172632Z
UID:33148-1665014400-1665100799@dandridgetn.gov
SUMMARY:Big Bass Tour
DESCRIPTION:
URL:https://dandridgetn.gov/event/big-bass-tour/
LOCATION:Shores of Loch Douglas\, 121 Public Drive\, Dandridge\, TN\, 37725\, United States
END:VEVENT
BEGIN:VEVENT
DTSTART;TZID=UTC:20220929T080000
DTEND;TZID=UTC:20220929T170000
DTSTAMP:20260425T155803
CREATED:20220602T142046Z
LAST-MODIFIED:20220602T142339Z
UID:30611-1664438400-1664470800@dandridgetn.gov
SUMMARY:Music On The Town - Jeff Little Trio / Big Country Bluegrass
DESCRIPTION:Schedule of Events: \n6:45pm – National Anthem / Pause For A Patriot Ceremony \n7:00pm – Jeff Little Trio \n7:45pm – Big Country Bluegrass
URL:https://dandridgetn.gov/event/music-on-the-town-jeff-little-trio-big-country-bluegrass/
LOCATION:Downtown Dandridge\, Dandridge\, TN\, 37725\, United States
ATTACH;FMTTYPE=image/png:https://dandridgetn.gov/wp-content/uploads/2015/03/Music-on-the-Town-Logo-Revised.png
END:VEVENT
BEGIN:VEVENT
DTSTART;VALUE=DATE:20220924
DTEND;VALUE=DATE:20220925
DTSTAMP:20260425T155803
CREATED:20220811T172259Z
LAST-MODIFIED:20220811T172342Z
UID:33146-1663977600-1664063999@dandridgetn.gov
SUMMARY:White Pine Marine Trail
DESCRIPTION:
URL:https://dandridgetn.gov/event/white-pine-marine-trail-3/
LOCATION:Shores of Loch Douglas\, 121 Public Drive\, Dandridge\, TN\, 37725\, United States
ATTACH;FMTTYPE=image/jpeg:https://dandridgetn.gov/wp-content/uploads/2021/03/WhitePineMarineTrail-1.jpg
END:VEVENT
BEGIN:VEVENT
DTSTART;TZID=UTC:20220922T190000
DTEND;TZID=UTC:20220922T210000
DTSTAMP:20260425T155803
CREATED:20220602T141812Z
LAST-MODIFIED:20220602T141812Z
UID:30609-1663873200-1663880400@dandridgetn.gov
SUMMARY:Music On The Town - Russell Moore & IIIrd Tyme Out
DESCRIPTION:Schedule of Events: \n6:45pm – National Anthem / Pause For A Patriot Ceremony \n7:00pm – Russell Moore & IIIrd Tyme Out
URL:https://dandridgetn.gov/event/music-on-the-town-russell-moore-iiird-tyme-out-2/
LOCATION:Downtown Dandridge\, Dandridge\, TN\, 37725\, United States
ATTACH;FMTTYPE=image/png:https://dandridgetn.gov/wp-content/uploads/2015/03/Music-on-the-Town-Logo-Revised.png
END:VEVENT
BEGIN:VEVENT
DTSTART;TZID=UTC:20220915T190000
DTEND;TZID=UTC:20220915T210000
DTSTAMP:20260425T155803
CREATED:20220602T141447Z
LAST-MODIFIED:20220602T141447Z
UID:30607-1663268400-1663275600@dandridgetn.gov
SUMMARY:Music On The Town - ETSU Bluegrass Pride Band / Becky Buller Band
DESCRIPTION:Schedule of Events: \n6:45pm – National Anthem / Pause For A Patriot Ceremony \n7:00pm – ETSU Bluegrass Pride Band \n7:45pm – Becky Buller Band
URL:https://dandridgetn.gov/event/music-on-the-town-etsu-bluegrass-pride-band-becky-buller-band/
LOCATION:Downtown Dandridge\, Dandridge\, TN\, 37725\, United States
ATTACH;FMTTYPE=image/png:https://dandridgetn.gov/wp-content/uploads/2015/03/Music-on-the-Town-Logo-Revised.png
END:VEVENT
BEGIN:VEVENT
DTSTART;VALUE=DATE:20220910
DTEND;VALUE=DATE:20220911
DTSTAMP:20260425T155803
CREATED:20220811T175554Z
LAST-MODIFIED:20220811T175554Z
UID:33157-1662768000-1662854399@dandridgetn.gov
SUMMARY:Business Expo
DESCRIPTION:
URL:https://dandridgetn.gov/event/business-expo/
LOCATION:Field of Dreams Activity Center\, 1145 Treadway Drive\, Dandridge\, TN\, 37725\, United States
ATTACH;FMTTYPE=image/png:https://dandridgetn.gov/wp-content/uploads/2022/08/Business-Expo-Fri.-September-9th-Sat.-September-10th.png
END:VEVENT
BEGIN:VEVENT
DTSTART;TZID=UTC:20220908T190000
DTEND;TZID=UTC:20220908T210000
DTSTAMP:20260425T155803
CREATED:20220602T135818Z
LAST-MODIFIED:20220602T140203Z
UID:30604-1662663600-1662670800@dandridgetn.gov
SUMMARY:Music On The Town - The Tams
DESCRIPTION:Schedule of Events: \n6:45pm – National Anthem / Pause For A Patriot Ceremony \n7:00pm – The Tams
URL:https://dandridgetn.gov/event/music-on-the-town-the-tams-3/
LOCATION:Downtown Dandridge\, Dandridge\, TN\, 37725\, United States
ATTACH;FMTTYPE=image/png:https://dandridgetn.gov/wp-content/uploads/2015/03/Music-on-the-Town-Logo-Revised.png
END:VEVENT
BEGIN:VEVENT
DTSTART;TZID=UTC:20220901T190000
DTEND;TZID=UTC:20220901T210000
DTSTAMP:20260425T155803
CREATED:20220602T135313Z
LAST-MODIFIED:20220602T135531Z
UID:30601-1662058800-1662066000@dandridgetn.gov
SUMMARY:Music on the Town - Chairmen Of The Board
DESCRIPTION:Schedule of Events: \n6:45pm – National Anthem / Pause For A Patriot Ceremony \n7:00pm – Chairmen of the Board
URL:https://dandridgetn.gov/event/music-on-the-town-23/
LOCATION:Downtown Dandridge\, Dandridge\, TN\, 37725\, United States
ATTACH;FMTTYPE=image/png:https://dandridgetn.gov/wp-content/uploads/2015/03/Music-on-the-Town-Logo-Revised.png
END:VEVENT
BEGIN:VEVENT
DTSTART;TZID=UTC:20211204T090000
DTEND;TZID=UTC:20211204T160000
DTSTAMP:20260425T155803
CREATED:20210610T153053Z
LAST-MODIFIED:20210610T153053Z
UID:24989-1638608400-1638633600@dandridgetn.gov
SUMMARY:Christmas Shopping Expo
DESCRIPTION:Come finish off your Christmas shopping at the Christmas Shopping Expo!  Saturday\, December 4th from 9:00am to 4:00pm.  The expo will feature over 140 vendors with special selections to ensure you can find the perfect gift.  Crafts\, Artisans\, Food\, and more\, this event has something for everyone!
URL:https://dandridgetn.gov/event/christmas-shopping-expo/
LOCATION:Field of Dreams Activity Center\, 1145 Treadway Drive\, Dandridge\, TN\, 37725\, United States
ATTACH;FMTTYPE=image/jpeg:https://dandridgetn.gov/wp-content/uploads/2021/06/199235667_10225804305525003_5575557752789361626_n.jpg
END:VEVENT
BEGIN:VEVENT
DTSTART;VALUE=DATE:20211105
DTEND;VALUE=DATE:20211107
DTSTAMP:20260425T155803
CREATED:20210312T190222Z
LAST-MODIFIED:20210316T115420Z
UID:24112-1636070400-1636243199@dandridgetn.gov
SUMMARY:White Pine Marine Trail - Championships
DESCRIPTION:
URL:https://dandridgetn.gov/event/white-pine-marine-trail-championships/
LOCATION:Shores of Loch Douglas\, 121 Public Drive\, Dandridge\, TN\, 37725\, United States
ATTACH;FMTTYPE=image/jpeg:https://dandridgetn.gov/wp-content/uploads/2021/03/WhitePineMarineTrail.jpg
END:VEVENT
BEGIN:VEVENT
DTSTART;TZID=UTC:20211016T080000
DTEND;TZID=UTC:20211016T170000
DTSTAMP:20260425T155803
CREATED:20210312T190126Z
LAST-MODIFIED:20210513T132618Z
UID:24110-1634371200-1634403600@dandridgetn.gov
SUMMARY:White Pine Marine Trail
DESCRIPTION:
URL:https://dandridgetn.gov/event/white-pine-marine-trail-2/
LOCATION:Shores of Loch Douglas\, 121 Public Drive\, Dandridge\, TN\, 37725\, United States
ATTACH;FMTTYPE=image/jpeg:https://dandridgetn.gov/wp-content/uploads/2021/03/WhitePineMarineTrail.jpg
END:VEVENT
BEGIN:VEVENT
DTSTART;VALUE=DATE:20211008
DTEND;VALUE=DATE:20211011
DTSTAMP:20260425T155803
CREATED:20210312T185959Z
LAST-MODIFIED:20210312T185959Z
UID:24108-1633651200-1633910399@dandridgetn.gov
SUMMARY:Big Bass
DESCRIPTION:
URL:https://dandridgetn.gov/event/big-bass/
LOCATION:Shores of Loch Douglas\, 121 Public Drive\, Dandridge\, TN\, 37725\, United States
END:VEVENT
END:VCALENDAR