BEGIN:VCALENDAR
VERSION:2.0
PRODID:-//Town Of Dandridge Tennessee - ECPv6.15.20//NONSGML v1.0//EN
CALSCALE:GREGORIAN
METHOD:PUBLISH
X-WR-CALNAME:Town Of Dandridge Tennessee
X-ORIGINAL-URL:https://dandridgetn.gov
X-WR-CALDESC:Events for Town Of Dandridge Tennessee
REFRESH-INTERVAL;VALUE=DURATION:PT1H
X-Robots-Tag:noindex
X-PUBLISHED-TTL:PT1H
BEGIN:VTIMEZONE
TZID:UTC
BEGIN:STANDARD
TZOFFSETFROM:+0000
TZOFFSETTO:+0000
TZNAME:UTC
DTSTART:20220101T000000
END:STANDARD
END:VTIMEZONE
BEGIN:VEVENT
DTSTART;TZID=UTC:20240524T130000
DTEND;TZID=UTC:20240524T140000
DTSTAMP:20260425T160025
CREATED:20240522T144136Z
LAST-MODIFIED:20240522T144136Z
UID:36722-1716555600-1716559200@dandridgetn.gov
SUMMARY:Urban Growth Boundary Revision Public Meeting
DESCRIPTION:Proposed Expansion Map \nThe Town of Dandridge will be hosting the first of two public meetings regarding the expansion of the Dandridge Urban Growth Boundary on Friday\, May 24\, 2024 at 1:00pm.  This meeting will be held at the Dandridge Police/Public Works Building located at 267 W. HWY 25/70.  A copy of the map is available by clicking link above. \nA few notes regarding Urban Growth Boundary expansion: \nExpansion of the Growth Boundary does not equal annexation.  Annexation must be requested by the property owner and not initiated by a municipality. \nIn order to request annexation\, you must submit an application through the Town of Dandridge. \nIf you have questions or concerns regarding this growth boundary revision\, please contact Town Hall at 865-397-7420.
URL:https://dandridgetn.gov/event/urban-growth-boundary-revision-public-meeting/
LOCATION:Dandridge PD/PW Building\, 267 W. HWY 25/70\, Dandridge\, 37725\, United States
END:VEVENT
BEGIN:VEVENT
DTSTART;VALUE=DATE:20240518
DTEND;VALUE=DATE:20240519
DTSTAMP:20260425T160025
CREATED:20240214T201928Z
LAST-MODIFIED:20240214T201928Z
UID:36610-1715990400-1716076799@dandridgetn.gov
SUMMARY:White Pine Marine Trail
DESCRIPTION:
URL:https://dandridgetn.gov/event/white-pine-marine-trail-8/
LOCATION:Dandridge Dock\, 257 Public Drive\, Dandridge\, TN\, 37725\, United States
ATTACH;FMTTYPE=image/jpeg:https://dandridgetn.gov/wp-content/uploads/2021/03/WhitePineMarineTrail-1.jpg
END:VEVENT
BEGIN:VEVENT
DTSTART;VALUE=DATE:20240511
DTEND;VALUE=DATE:20240512
DTSTAMP:20260425T160025
CREATED:20240214T201811Z
LAST-MODIFIED:20240214T201811Z
UID:36607-1715385600-1715471999@dandridgetn.gov
SUMMARY:Major League Fishing Bass Fishing League Tournament
DESCRIPTION:
URL:https://dandridgetn.gov/event/major-league-fishing-bass-fishing-league-tournament/
LOCATION:Dandridge Dock\, 257 Public Drive\, Dandridge\, TN\, 37725\, United States
ATTACH;FMTTYPE=image/jpeg:https://dandridgetn.gov/wp-content/uploads/2024/02/fullsizeoutput_1d74.jpeg
END:VEVENT
BEGIN:VEVENT
DTSTART;VALUE=DATE:20240505
DTEND;VALUE=DATE:20240506
DTSTAMP:20260425T160025
CREATED:20240214T194816Z
LAST-MODIFIED:20240214T194816Z
UID:36590-1714867200-1714953599@dandridgetn.gov
SUMMARY:American Bass Trail
DESCRIPTION:Contact Tournament Director Danny Julian to register at 865-223-4508.
URL:https://dandridgetn.gov/event/american-bass-trail-4/
LOCATION:Dandridge Dock\, 257 Public Drive\, Dandridge\, TN\, 37725\, United States
ATTACH;FMTTYPE=image/png:https://dandridgetn.gov/wp-content/uploads/2024/02/ABT-logo-long-Jenko-300-NEW.png
END:VEVENT
BEGIN:VEVENT
DTSTART;VALUE=DATE:20240420
DTEND;VALUE=DATE:20240422
DTSTAMP:20260425T160025
CREATED:20240214T201143Z
LAST-MODIFIED:20240214T201143Z
UID:36604-1713571200-1713743999@dandridgetn.gov
SUMMARY:Bill Dance Giant Bass Open
DESCRIPTION:
URL:https://dandridgetn.gov/event/bill-dance-giant-bass-open/
LOCATION:Dandridge Dock\, 257 Public Drive\, Dandridge\, TN\, 37725\, United States
ATTACH;FMTTYPE=image/png:https://dandridgetn.gov/wp-content/uploads/2024/02/bill-dance.png
END:VEVENT
BEGIN:VEVENT
DTSTART;VALUE=DATE:20240414
DTEND;VALUE=DATE:20240415
DTSTAMP:20260425T160025
CREATED:20240214T194728Z
LAST-MODIFIED:20240214T194728Z
UID:36588-1713052800-1713139199@dandridgetn.gov
SUMMARY:American Bass Trail
DESCRIPTION:Contact Tournament Director Danny Julian to register at 865-223-4508.
URL:https://dandridgetn.gov/event/american-bass-trail-3/
LOCATION:Dandridge Dock\, 257 Public Drive\, Dandridge\, TN\, 37725\, United States
ATTACH;FMTTYPE=image/png:https://dandridgetn.gov/wp-content/uploads/2024/02/ABT-logo-long-Jenko-300-NEW.png
END:VEVENT
BEGIN:VEVENT
DTSTART;VALUE=DATE:20240324
DTEND;VALUE=DATE:20240325
DTSTAMP:20260425T160025
CREATED:20240214T194632Z
LAST-MODIFIED:20240214T194632Z
UID:36586-1711238400-1711324799@dandridgetn.gov
SUMMARY:American Bass Trail
DESCRIPTION:Contact Tournament Director Danny Julian to register at 865-223-4508.
URL:https://dandridgetn.gov/event/american-bass-trail-2/
LOCATION:Dandridge Dock\, 257 Public Drive\, Dandridge\, TN\, 37725\, United States
ATTACH;FMTTYPE=image/png:https://dandridgetn.gov/wp-content/uploads/2024/02/ABT-logo-long-Jenko-300-NEW.png
END:VEVENT
BEGIN:VEVENT
DTSTART;TZID=UTC:20240323T100000
DTEND;TZID=UTC:20240323T180000
DTSTAMP:20260425T160025
CREATED:20240227T165034Z
LAST-MODIFIED:20240227T165034Z
UID:36653-1711188000-1711216800@dandridgetn.gov
SUMMARY:Spirit of the Nations POWWOW
DESCRIPTION:This event will be held at Jefferson County High School in Dandridge\, TN.
URL:https://dandridgetn.gov/event/spirit-of-the-nations-powwow/
LOCATION:TN
ATTACH;FMTTYPE=image/jpeg:https://dandridgetn.gov/wp-content/uploads/2024/02/PowWow.jpg
END:VEVENT
BEGIN:VEVENT
DTSTART;VALUE=DATE:20240323
DTEND;VALUE=DATE:20240324
DTSTAMP:20260425T160025
CREATED:20240214T200905Z
LAST-MODIFIED:20240214T200905Z
UID:36602-1711152000-1711238399@dandridgetn.gov
SUMMARY:White Pine Marine Trail
DESCRIPTION:
URL:https://dandridgetn.gov/event/white-pine-marine-trail-7/
LOCATION:Dandridge Dock\, 257 Public Drive\, Dandridge\, TN\, 37725\, United States
ATTACH;FMTTYPE=image/jpeg:https://dandridgetn.gov/wp-content/uploads/2021/03/WhitePineMarineTrail-1.jpg
END:VEVENT
BEGIN:VEVENT
DTSTART;VALUE=DATE:20240316
DTEND;VALUE=DATE:20240317
DTSTAMP:20260425T160025
CREATED:20240214T200714Z
LAST-MODIFIED:20240214T200714Z
UID:36600-1710547200-1710633599@dandridgetn.gov
SUMMARY:Morristown Marine Tournament Trail
DESCRIPTION:
URL:https://dandridgetn.gov/event/morristown-marine-tournament-trail/
LOCATION:Dandridge Dock\, 257 Public Drive\, Dandridge\, TN\, 37725\, United States
ATTACH;FMTTYPE=image/jpeg:https://dandridgetn.gov/wp-content/uploads/2021/03/72161679_10156472666072665_3575707810341584896_n.jpg
END:VEVENT
BEGIN:VEVENT
DTSTART;VALUE=DATE:20240310
DTEND;VALUE=DATE:20240311
DTSTAMP:20260425T160025
CREATED:20240214T200400Z
LAST-MODIFIED:20240214T200400Z
UID:36597-1710028800-1710115199@dandridgetn.gov
SUMMARY:Bassmaster High School Series Tournament
DESCRIPTION:
URL:https://dandridgetn.gov/event/bassmaster-high-school-series-tournament/
LOCATION:Dandridge Dock\, 257 Public Drive\, Dandridge\, TN\, 37725\, United States
ATTACH;FMTTYPE=image/webp:https://dandridgetn.gov/wp-content/uploads/2024/02/HighSchool_StrikeKing_Academy_4C-copy-updated.webp
END:VEVENT
BEGIN:VEVENT
DTSTART;VALUE=DATE:20240307
DTEND;VALUE=DATE:20240309
DTSTAMP:20260425T160025
CREATED:20240214T195955Z
LAST-MODIFIED:20240214T200126Z
UID:36594-1709769600-1709942399@dandridgetn.gov
SUMMARY:Bassmaster College Series Tournament
DESCRIPTION:
URL:https://dandridgetn.gov/event/bassmaster-college-series-tournament/
LOCATION:Dandridge Dock\, 257 Public Drive\, Dandridge\, TN\, 37725\, United States
ATTACH;FMTTYPE=image/webp:https://dandridgetn.gov/wp-content/uploads/2024/02/CollegeSeries_StrikeKing_BPSjm_4C-2.webp
END:VEVENT
BEGIN:VEVENT
DTSTART;VALUE=DATE:20240303
DTEND;VALUE=DATE:20240304
DTSTAMP:20260425T160025
CREATED:20240214T194431Z
LAST-MODIFIED:20240214T194431Z
UID:36583-1709424000-1709510399@dandridgetn.gov
SUMMARY:American Bass Trail
DESCRIPTION:Contact Tournament Director Danny Julian to register at 865-223-4508
URL:https://dandridgetn.gov/event/american-bass-trail/
LOCATION:Dandridge Dock\, 257 Public Drive\, Dandridge\, TN\, 37725\, United States
ATTACH;FMTTYPE=image/png:https://dandridgetn.gov/wp-content/uploads/2024/02/ABT-logo-long-Jenko-300-NEW.png
END:VEVENT
BEGIN:VEVENT
DTSTART;TZID=UTC:20231223T130000
DTEND;TZID=UTC:20231223T140000
DTSTAMP:20260425T160025
CREATED:20181109T173843Z
LAST-MODIFIED:20230315T125136Z
UID:17004-1703336400-1703340000@dandridgetn.gov
SUMMARY:Christmas Parade Presented by the Dandridge Volunteer Fire Department
DESCRIPTION:Come enjoy the Dandridge Christmas Parade presented by the Dandridge Volunteer Fire Department.  The parade route will be from Maury Middle School to Downtown Dandridge.
URL:https://dandridgetn.gov/event/christmas-parade-presented-by-the-dandridge-volunteer-fire-department/
LOCATION:Downtown Dandridge\, Dandridge\, TN\, 37725\, United States
ATTACH;FMTTYPE=image/jpeg:https://dandridgetn.gov/wp-content/uploads/2018/11/Dandridge-Christmas-Parade-12202014-184.jpg
END:VEVENT
BEGIN:VEVENT
DTSTART;TZID=UTC:20231209T100000
DTEND;TZID=UTC:20231209T200000
DTSTAMP:20260425T160025
CREATED:20231208T135031Z
LAST-MODIFIED:20231208T135031Z
UID:36515-1702116000-1702152000@dandridgetn.gov
SUMMARY:Join Us For The Cookie Crawl\, Candlelight Shopping\, and Carriage Rides in Downtown Dandridge!
DESCRIPTION:Save the Date for a Magical Christmas Event!\n\n\nJoin us on Saturday\, December 9th\, 2023\, for an enchanting Christmas celebration in Dandridge! The Town of Dandridge is spreading holiday cheer with a delightful lineup of festive activities:\n\n\nCandlelight Shopping: Explore the charming streets adorned with twinkling lights as local shops stay open late for a cozy and magical shopping experience. Find the perfect gifts for your loved ones!\n\n\nCookie Crawl: Indulge your sweet tooth in a festive Cookie Crawl! Sample delicious homemade cookies from participating local shops. It’s a sweet way to savor the flavors of the season.\n\n\nChristmas Carriage Rides: Take a step back in time with picturesque Christmas carriage rides through the heart of Dandridge. Enjoy the scenic beauty and the clip-clop of hooves as you soak in the holiday spirit.\n\n\nDon’t miss this opportunity to kick off the holiday season with family and friends! The Town of Dandridge is proud to host these wonderful events\, creating cherished memories for our community.\n\n\nSpread the word\, mark your calendars\, and let’s make December 9th a day to remember!
URL:https://dandridgetn.gov/event/join-us-for-the-cookie-crawl-candlelight-shopping-and-carriage-rides-in-downtown-dandridge/
LOCATION:Downtown Dandridge\, Dandridge\, TN\, 37725\, United States
ATTACH;FMTTYPE=image/jpeg:https://dandridgetn.gov/wp-content/uploads/2023/12/Cookie-Crawl.jpg
END:VEVENT
BEGIN:VEVENT
DTSTART;TZID=UTC:20231202T100000
DTEND;TZID=UTC:20231202T103000
DTSTAMP:20260425T160025
CREATED:20231128T175927Z
LAST-MODIFIED:20231128T180040Z
UID:36509-1701511200-1701513000@dandridgetn.gov
SUMMARY:Reindeer Run
DESCRIPTION:
URL:https://dandridgetn.gov/event/reindeer-run/
LOCATION:Downtown Dandridge\, Dandridge\, TN\, 37725\, United States
ATTACH;FMTTYPE=image/jpeg:https://dandridgetn.gov/wp-content/uploads/2023/11/reindeer-run.jpg
END:VEVENT
BEGIN:VEVENT
DTSTART;TZID=UTC:20231130T180000
DTEND;TZID=UTC:20231130T190000
DTSTAMP:20260425T160025
CREATED:20231129T211909Z
LAST-MODIFIED:20231129T211925Z
UID:36512-1701367200-1701370800@dandridgetn.gov
SUMMARY:Tree Lighting Ceremony
DESCRIPTION:Click here to see the FB flyer!  \nCarriage Rides! Caroling! and the Tree Lighting!  Come spend your evening with us in the Courthouse square.
URL:https://dandridgetn.gov/event/tree-lighting-ceremony-2/
LOCATION:Downtown Dandridge\, Dandridge\, TN\, 37725\, United States
END:VEVENT
BEGIN:VEVENT
DTSTART;VALUE=DATE:20231103
DTEND;VALUE=DATE:20231105
DTSTAMP:20260425T160025
CREATED:20230315T124620Z
LAST-MODIFIED:20230315T124620Z
UID:36267-1698969600-1699142399@dandridgetn.gov
SUMMARY:White Pine Marine Trail 2023 Championship
DESCRIPTION:
URL:https://dandridgetn.gov/event/white-pine-marine-trail-2023-championship/
LOCATION:Dandridge Dock\, 257 Public Drive\, Dandridge\, TN\, 37725\, United States
ATTACH;FMTTYPE=image/jpeg:https://dandridgetn.gov/wp-content/uploads/2021/03/WhitePineMarineTrail.jpg
END:VEVENT
BEGIN:VEVENT
DTSTART;VALUE=DATE:20231021
DTEND;VALUE=DATE:20231023
DTSTAMP:20260425T160025
CREATED:20230315T124436Z
LAST-MODIFIED:20230315T124436Z
UID:36265-1697846400-1698019199@dandridgetn.gov
SUMMARY:Morristown Marine Trail 2023 Championship
DESCRIPTION:
URL:https://dandridgetn.gov/event/morristown-marine-trail-2023-championship/
LOCATION:Dandridge Dock\, 257 Public Drive\, Dandridge\, TN\, 37725\, United States
ATTACH;FMTTYPE=image/jpeg:https://dandridgetn.gov/wp-content/uploads/2021/03/72161679_10156472666072665_3575707810341584896_n.jpg
END:VEVENT
BEGIN:VEVENT
DTSTART;VALUE=DATE:20231014
DTEND;VALUE=DATE:20231015
DTSTAMP:20260425T160025
CREATED:20230315T124206Z
LAST-MODIFIED:20230315T124206Z
UID:36263-1697241600-1697327999@dandridgetn.gov
SUMMARY:White Pine Marine Trail
DESCRIPTION:
URL:https://dandridgetn.gov/event/white-pine-marine-trail-6/
LOCATION:Dandridge Dock\, 257 Public Drive\, Dandridge\, TN\, 37725\, United States
ATTACH;FMTTYPE=image/jpeg:https://dandridgetn.gov/wp-content/uploads/2021/03/WhitePineMarineTrail.jpg
END:VEVENT
BEGIN:VEVENT
DTSTART;TZID=UTC:20231013T190000
DTEND;TZID=UTC:20231013T210000
DTSTAMP:20260425T160025
CREATED:20230524T194736Z
LAST-MODIFIED:20230822T192619Z
UID:36335-1697223600-1697230800@dandridgetn.gov
SUMMARY:Music on the Town - The Travelin' McCourys
DESCRIPTION:Food Service begins at 6:00pm provided by the Jefferson County Rescue Squad \nPause For A Patriot Ceremony begins at 6:45pm \nMusic begins at 7:00pm
URL:https://dandridgetn.gov/event/music-on-the-town-tba/
LOCATION:Town Hall\, 131 E Main Street\, Dandridge\, TN\, 37725\, United States
ATTACH;FMTTYPE=image/png:https://dandridgetn.gov/wp-content/uploads/2015/03/Music-on-the-Town-Logo-Revised.png
END:VEVENT
BEGIN:VEVENT
DTSTART;VALUE=DATE:20231006
DTEND;VALUE=DATE:20231009
DTSTAMP:20260425T160025
CREATED:20230315T122417Z
LAST-MODIFIED:20230315T122417Z
UID:36260-1696550400-1696809599@dandridgetn.gov
SUMMARY:Big Bass Tour
DESCRIPTION:
URL:https://dandridgetn.gov/event/big-bass-tour-2/
LOCATION:Dandridge Dock\, 257 Public Drive\, Dandridge\, TN\, 37725\, United States
ATTACH;FMTTYPE=image/png:https://dandridgetn.gov/wp-content/uploads/2023/03/bbt-logo-2022.png
END:VEVENT
BEGIN:VEVENT
DTSTART;TZID=UTC:20231005T190000
DTEND;TZID=UTC:20231005T210000
DTSTAMP:20260425T160025
CREATED:20230524T193939Z
LAST-MODIFIED:20230822T192526Z
UID:36333-1696532400-1696539600@dandridgetn.gov
SUMMARY:Music on the Town - Blue Highway
DESCRIPTION:Food Service begins at 6:00pm provided by the Jefferson County Rescue Squad \nPause For A Patriot Ceremony begins at 6:45pm \nMusic begins at 7:00pm
URL:https://dandridgetn.gov/event/music-on-the-town-blue-highway-2/
LOCATION:Town Hall\, 131 E Main Street\, Dandridge\, TN\, 37725\, United States
ATTACH;FMTTYPE=image/png:https://dandridgetn.gov/wp-content/uploads/2015/03/Music-on-the-Town-Logo-Revised.png
END:VEVENT
BEGIN:VEVENT
DTSTART;VALUE=DATE:20231001
DTEND;VALUE=DATE:20231002
DTSTAMP:20260425T160025
CREATED:20230315T121911Z
LAST-MODIFIED:20230315T121911Z
UID:36257-1696118400-1696204799@dandridgetn.gov
SUMMARY:TN Team Trail 2023 Championship
DESCRIPTION:
URL:https://dandridgetn.gov/event/tn-team-trail-2023-championship/
LOCATION:Dandridge Dock\, 257 Public Drive\, Dandridge\, TN\, 37725\, United States
ATTACH;FMTTYPE=image/png:https://dandridgetn.gov/wp-content/uploads/2023/03/tttban.png
END:VEVENT
BEGIN:VEVENT
DTSTART;VALUE=DATE:20230930
DTEND;VALUE=DATE:20231001
DTSTAMP:20260425T160025
CREATED:20220811T171835Z
LAST-MODIFIED:20230315T112840Z
UID:33143-1696032000-1696118399@dandridgetn.gov
SUMMARY:Scots Irish Festival
DESCRIPTION:
URL:https://dandridgetn.gov/event/scots-irish-festival-4/
LOCATION:Downtown Dandridge\, Dandridge\, TN\, 37725\, United States
ATTACH;FMTTYPE=image/png:https://dandridgetn.gov/wp-content/uploads/2019/07/download.png
END:VEVENT
BEGIN:VEVENT
DTSTART;TZID=UTC:20230928T190000
DTEND;TZID=UTC:20230928T210000
DTSTAMP:20260425T160025
CREATED:20230524T193650Z
LAST-MODIFIED:20230822T192417Z
UID:36331-1695927600-1695934800@dandridgetn.gov
SUMMARY:Music on the Town - Darryl Worley
DESCRIPTION:Food Service begins at 6:00pm provided by the Jefferson County Rescue Squad \nPause For A Patriot Ceremony begins at 6:45pm \nMusic begins at 7:00pm
URL:https://dandridgetn.gov/event/music-on-the-town-darryl-worley/
LOCATION:Town Hall\, 131 E Main Street\, Dandridge\, TN\, 37725\, United States
ATTACH;FMTTYPE=image/png:https://dandridgetn.gov/wp-content/uploads/2015/03/Music-on-the-Town-Logo-Revised.png
END:VEVENT
BEGIN:VEVENT
DTSTART;TZID=UTC:20230921T190000
DTEND;TZID=UTC:20230921T210000
DTSTAMP:20260425T160025
CREATED:20230524T193009Z
LAST-MODIFIED:20230822T192327Z
UID:36328-1695322800-1695330000@dandridgetn.gov
SUMMARY:Music on the Town - Appalachian Road Show
DESCRIPTION:Food Service begins at 6:00pm provided by the Jefferson County Rescue Squad \nPause For A Patriot Ceremony begins at 6:45pm \nMusic begins at 7:00pm
URL:https://dandridgetn.gov/event/music-on-the-town-appalachian-road-show/
LOCATION:Town Hall\, 131 E Main Street\, Dandridge\, TN\, 37725\, United States
ATTACH;FMTTYPE=image/png:https://dandridgetn.gov/wp-content/uploads/2015/03/Music-on-the-Town-Logo-Revised.png
END:VEVENT
BEGIN:VEVENT
DTSTART;TZID=UTC:20230914T190000
DTEND;TZID=UTC:20230914T210000
DTSTAMP:20260425T160025
CREATED:20230524T191116Z
LAST-MODIFIED:20230822T191605Z
UID:36321-1694718000-1694725200@dandridgetn.gov
SUMMARY:Music on the Town - Po' Ramblin Boys
DESCRIPTION:Food Service begins at 6:00pm provided by the Jefferson County Rescue Squad \nPause For A Patriot Ceremony begins at 6:45pm \nMusic begins at 7:00pm
URL:https://dandridgetn.gov/event/music-on-the-town-po-ramblin-boys/
LOCATION:Town Hall\, 131 E Main Street\, Dandridge\, TN\, 37725\, United States
ATTACH;FMTTYPE=image/png:https://dandridgetn.gov/wp-content/uploads/2015/03/Music-on-the-Town-Logo-Revised.png
END:VEVENT
BEGIN:VEVENT
DTSTART;TZID=UTC:20230907T190000
DTEND;TZID=UTC:20230907T210000
DTSTAMP:20260425T160025
CREATED:20230524T190309Z
LAST-MODIFIED:20230822T191438Z
UID:36316-1694113200-1694120400@dandridgetn.gov
SUMMARY:Music on the Town - Chairmen of the Board
DESCRIPTION:Food Service begins at 6:00pm provided by the Jefferson County Rescue Squad \nPause For A Patriot Ceremony begins at 6:45pm \nMusic begins at 7:00pm
URL:https://dandridgetn.gov/event/music-on-the-town-chairmen-of-the-board/
LOCATION:Town Hall\, 131 E Main Street\, Dandridge\, TN\, 37725\, United States
ATTACH;FMTTYPE=image/png:https://dandridgetn.gov/wp-content/uploads/2015/03/Music-on-the-Town-Logo-Revised.png
END:VEVENT
BEGIN:VEVENT
DTSTART;TZID=UTC:20230831T190000
DTEND;TZID=UTC:20230831T210000
DTSTAMP:20260425T160025
CREATED:20230524T190018Z
LAST-MODIFIED:20230524T190548Z
UID:36314-1693508400-1693515600@dandridgetn.gov
SUMMARY:Music on the Town - The Tams
DESCRIPTION:
URL:https://dandridgetn.gov/event/music-on-the-town-the-tams-4/
LOCATION:Town Hall\, 131 E Main Street\, Dandridge\, TN\, 37725\, United States
ATTACH;FMTTYPE=image/png:https://dandridgetn.gov/wp-content/uploads/2015/03/Music-on-the-Town-Logo-Revised.png
END:VEVENT
END:VCALENDAR