BEGIN:VCALENDAR
VERSION:2.0
PRODID:-//Town Of Dandridge Tennessee - ECPv6.15.20//NONSGML v1.0//EN
CALSCALE:GREGORIAN
METHOD:PUBLISH
X-ORIGINAL-URL:https://dandridgetn.gov
X-WR-CALDESC:Events for Town Of Dandridge Tennessee
REFRESH-INTERVAL;VALUE=DURATION:PT1H
X-Robots-Tag:noindex
X-PUBLISHED-TTL:PT1H
BEGIN:VTIMEZONE
TZID:UTC
BEGIN:STANDARD
TZOFFSETFROM:+0000
TZOFFSETTO:+0000
TZNAME:UTC
DTSTART:20250101T000000
END:STANDARD
END:VTIMEZONE
BEGIN:VEVENT
DTSTART;VALUE=DATE:20260508
DTEND;VALUE=DATE:20260511
DTSTAMP:20260424T131551
CREATED:20260211T195737Z
LAST-MODIFIED:20260211T195737Z
UID:37532-1778198400-1778457599@dandridgetn.gov
SUMMARY:MLF Pro Circuit
DESCRIPTION:
URL:https://dandridgetn.gov/event/mlf-pro-circuit/
LOCATION:Dandridge Dock\, 257 Public Drive\, Dandridge\, TN\, 37725\, United States
ATTACH;FMTTYPE=image/webp:https://dandridgetn.gov/wp-content/uploads/2026/02/MLF-Pro-Circuit.webp
END:VEVENT
BEGIN:VEVENT
DTSTART;VALUE=DATE:20260523
DTEND;VALUE=DATE:20260524
DTSTAMP:20260424T131551
CREATED:20260211T195926Z
LAST-MODIFIED:20260211T195926Z
UID:37535-1779494400-1779580799@dandridgetn.gov
SUMMARY:Bass Anglers Invitational Trail (BAIT)
DESCRIPTION:
URL:https://dandridgetn.gov/event/bass-anglers-invitational-trail-bait-2/
LOCATION:Dandridge Dock\, 257 Public Drive\, Dandridge\, TN\, 37725\, United States
ATTACH;FMTTYPE=image/jpeg:https://dandridgetn.gov/wp-content/uploads/2026/02/BAIT-Logo.jpg
END:VEVENT
BEGIN:VEVENT
DTSTART;VALUE=DATE:20260525
DTEND;VALUE=DATE:20260526
DTSTAMP:20260424T131551
CREATED:20260120T222806Z
LAST-MODIFIED:20260120T222806Z
UID:37471-1779667200-1779753599@dandridgetn.gov
SUMMARY:Town Offices Closed
DESCRIPTION:Town Offices Closed in Observance of Memorial Day.
URL:https://dandridgetn.gov/event/town-offices-closed-9/
LOCATION:Town Hall\, 131 E Main Street\, Dandridge\, TN\, 37725\, United States
ATTACH;FMTTYPE=image/png:https://dandridgetn.gov/wp-content/uploads/2026/01/Closed-Memorial-Day.png
END:VEVENT
BEGIN:VEVENT
DTSTART;TZID=UTC:20260525T110000
DTEND;TZID=UTC:20260525T120000
DTSTAMP:20260424T131551
CREATED:20260211T204737Z
LAST-MODIFIED:20260211T204737Z
UID:37537-1779706800-1779710400@dandridgetn.gov
SUMMARY:Memorial Day Celebration
DESCRIPTION:
URL:https://dandridgetn.gov/event/memorial-day-celebration-3/
LOCATION:Town Hall\, 131 E Main Street\, Dandridge\, TN\, 37725\, United States
ATTACH;FMTTYPE=image/jpeg:https://dandridgetn.gov/wp-content/uploads/2024/02/2024-Memorial-Day-Flyer-PRINT-2-scaled.jpg
END:VEVENT
BEGIN:VEVENT
DTSTART;TZID=UTC:20260620T100000
DTEND;TZID=UTC:20260620T180000
DTSTAMP:20260424T131551
CREATED:20260211T204910Z
LAST-MODIFIED:20260211T204910Z
UID:37539-1781949600-1781978400@dandridgetn.gov
SUMMARY:June Jubilee
DESCRIPTION:
URL:https://dandridgetn.gov/event/june-jubilee-6/
LOCATION:Downtown Dandridge\, Dandridge\, TN\, 37725\, United States
ATTACH;FMTTYPE=image/jpeg:https://dandridgetn.gov/wp-content/uploads/2025/02/June-Jubilee-2025-Sponsor-Board-Logos-FINAL-V2-50pct-scaled.jpg
END:VEVENT
BEGIN:VEVENT
DTSTART;VALUE=DATE:20260703
DTEND;VALUE=DATE:20260704
DTSTAMP:20260424T131551
CREATED:20260120T223329Z
LAST-MODIFIED:20260120T223329Z
UID:37474-1783036800-1783123199@dandridgetn.gov
SUMMARY:Town Offices Closed
DESCRIPTION:Town Offices Closed in Observance of Independence Day
URL:https://dandridgetn.gov/event/town-offices-closed-10/
LOCATION:Town Hall\, 131 E Main Street\, Dandridge\, TN\, 37725\, United States
ATTACH;FMTTYPE=image/png:https://dandridgetn.gov/wp-content/uploads/2026/01/Closed-Independence-Day.png
END:VEVENT
BEGIN:VEVENT
DTSTART;VALUE=DATE:20260907
DTEND;VALUE=DATE:20260908
DTSTAMP:20260424T131551
CREATED:20260120T224311Z
LAST-MODIFIED:20260120T224311Z
UID:37477-1788739200-1788825599@dandridgetn.gov
SUMMARY:Town Offices Closed
DESCRIPTION:Town Offices Closed in Observance of Labor Day
URL:https://dandridgetn.gov/event/town-offices-closed-11/
LOCATION:Town Hall\, 131 E Main Street\, Dandridge\, TN\, 37725\, United States
ATTACH;FMTTYPE=image/png:https://dandridgetn.gov/wp-content/uploads/2026/01/Closed-Labor-Day.png
END:VEVENT
BEGIN:VEVENT
DTSTART;VALUE=DATE:20260925
DTEND;VALUE=DATE:20260927
DTSTAMP:20260424T131551
CREATED:20260211T205107Z
LAST-MODIFIED:20260211T205107Z
UID:37541-1790294400-1790467199@dandridgetn.gov
SUMMARY:Scots-Irish Festival
DESCRIPTION:
URL:https://dandridgetn.gov/event/scots-irish-festival-5/
LOCATION:Downtown Dandridge\, Dandridge\, TN\, 37725\, United States
ATTACH;FMTTYPE=image/png:https://dandridgetn.gov/wp-content/uploads/2019/07/download.png
END:VEVENT
BEGIN:VEVENT
DTSTART;VALUE=DATE:20261002
DTEND;VALUE=DATE:20261005
DTSTAMP:20260424T131551
CREATED:20260211T205227Z
LAST-MODIFIED:20260211T205227Z
UID:37543-1790899200-1791158399@dandridgetn.gov
SUMMARY:Big Bass Tour
DESCRIPTION:
URL:https://dandridgetn.gov/event/big-bass-tour-6/
LOCATION:Dandridge Dock\, 257 Public Drive\, Dandridge\, TN\, 37725\, United States
ATTACH;FMTTYPE=image/png:https://dandridgetn.gov/wp-content/uploads/2025/02/bbt-logo-2022.png
END:VEVENT
BEGIN:VEVENT
DTSTART;VALUE=DATE:20261012
DTEND;VALUE=DATE:20261013
DTSTAMP:20260424T131551
CREATED:20260121T220729Z
LAST-MODIFIED:20260121T220837Z
UID:37480-1791763200-1791849599@dandridgetn.gov
SUMMARY:Town Offices Closed
DESCRIPTION:Town Offices are Closed in Observance of Columbus Day / Indigenous Peoples’ Day.
URL:https://dandridgetn.gov/event/town-offices-closed-12/
LOCATION:Town Hall\, 131 E Main Street\, Dandridge\, TN\, 37725\, United States
ATTACH;FMTTYPE=image/png:https://dandridgetn.gov/wp-content/uploads/2026/01/Closed-Columbus-Day.png
END:VEVENT
BEGIN:VEVENT
DTSTART;TZID=UTC:20261024T100000
DTEND;TZID=UTC:20261024T180000
DTSTAMP:20260424T131551
CREATED:20260211T205427Z
LAST-MODIFIED:20260211T205538Z
UID:37545-1792836000-1792864800@dandridgetn.gov
SUMMARY:Dandridge Fall Days Festival
DESCRIPTION:
URL:https://dandridgetn.gov/event/dandridge-fall-days-festival/
LOCATION:Downtown Dandridge\, Dandridge\, TN\, 37725\, United States
ATTACH;FMTTYPE=image/jpeg:https://dandridgetn.gov/wp-content/uploads/2025/04/Fall-Festival-Board-4x8-copy-Final-25.jpg
END:VEVENT
BEGIN:VEVENT
DTSTART;VALUE=DATE:20261031
DTEND;VALUE=DATE:20261102
DTSTAMP:20260424T131551
CREATED:20260211T205636Z
LAST-MODIFIED:20260211T205636Z
UID:37547-1793404800-1793577599@dandridgetn.gov
SUMMARY:Bill Dance Giant Bass Open
DESCRIPTION:
URL:https://dandridgetn.gov/event/bill-dance-giant-bass-open-2/
LOCATION:Dandridge Dock\, 257 Public Drive\, Dandridge\, TN\, 37725\, United States
ATTACH;FMTTYPE=image/png:https://dandridgetn.gov/wp-content/uploads/2024/02/bill-dance.png
END:VEVENT
BEGIN:VEVENT
DTSTART;VALUE=DATE:20261111
DTEND;VALUE=DATE:20261112
DTSTAMP:20260424T131551
CREATED:20260121T221857Z
LAST-MODIFIED:20260121T221857Z
UID:37483-1794355200-1794441599@dandridgetn.gov
SUMMARY:Town Offices Closed
DESCRIPTION:Town Offices will be closed in observance of Veterans Day
URL:https://dandridgetn.gov/event/town-offices-closed-13/
LOCATION:Town Hall\, 131 E Main Street\, Dandridge\, TN\, 37725\, United States
ATTACH;FMTTYPE=image/png:https://dandridgetn.gov/wp-content/uploads/2026/01/Closed-Veterans-Day.png
END:VEVENT
BEGIN:VEVENT
DTSTART;TZID=UTC:20261125T120000
DTEND;TZID=UTC:20261125T163000
DTSTAMP:20260424T131551
CREATED:20260121T222108Z
LAST-MODIFIED:20260121T222108Z
UID:37486-1795608000-1795624200@dandridgetn.gov
SUMMARY:Town Offices Close at 12:00pm
DESCRIPTION:Town offices will close at 12:00pm in observance of Thanksgiving.
URL:https://dandridgetn.gov/event/town-offices-close-at-1200pm/
LOCATION:Town Hall\, 131 E Main Street\, Dandridge\, TN\, 37725\, United States
ATTACH;FMTTYPE=image/png:https://dandridgetn.gov/wp-content/uploads/2026/01/Closed-Thanksgiving.png
END:VEVENT
BEGIN:VEVENT
DTSTART;VALUE=DATE:20261126
DTEND;VALUE=DATE:20261128
DTSTAMP:20260424T131551
CREATED:20260121T222437Z
LAST-MODIFIED:20260121T222437Z
UID:37489-1795651200-1795823999@dandridgetn.gov
SUMMARY:Town Offices Closed
DESCRIPTION:Town offices are closed in observance of Thanksgiving.
URL:https://dandridgetn.gov/event/town-offices-closed-14/
LOCATION:Town Hall\, 131 E Main Street\, Dandridge\, TN\, 37725\, United States
ATTACH;FMTTYPE=image/png:https://dandridgetn.gov/wp-content/uploads/2026/01/Closed-Thanksgiving.png
END:VEVENT
BEGIN:VEVENT
DTSTART;VALUE=DATE:20261224
DTEND;VALUE=DATE:20261227
DTSTAMP:20260424T131551
CREATED:20260121T222610Z
LAST-MODIFIED:20260122T140344Z
UID:37491-1798070400-1798329599@dandridgetn.gov
SUMMARY:Town Offices Closed
DESCRIPTION:Town offices are closed in observance of Christmas
URL:https://dandridgetn.gov/event/town-offices-closed-15/
LOCATION:Town Hall\, 131 E Main Street\, Dandridge\, TN\, 37725\, United States
ATTACH;FMTTYPE=image/png:https://dandridgetn.gov/wp-content/uploads/2026/01/Closed-Christmas.png
END:VEVENT
BEGIN:VEVENT
DTSTART;TZID=UTC:20261231T120000
DTEND;TZID=UTC:20261231T163000
DTSTAMP:20260424T131551
CREATED:20260122T140632Z
LAST-MODIFIED:20260122T155927Z
UID:37495-1798718400-1798734600@dandridgetn.gov
SUMMARY:Town Offices Close at 12:00pm
DESCRIPTION:Town offices will close at 12:00pm in observance of New Year’s Day.
URL:https://dandridgetn.gov/event/town-offices-close-at-1200pm-2/
LOCATION:Town Hall\, 131 E Main Street\, Dandridge\, TN\, 37725\, United States
ATTACH;FMTTYPE=image/png:https://dandridgetn.gov/wp-content/uploads/2026/01/Closed-New-Years-Day.png
END:VEVENT
BEGIN:VEVENT
DTSTART;VALUE=DATE:20270101
DTEND;VALUE=DATE:20270102
DTSTAMP:20260424T131551
CREATED:20260122T160125Z
LAST-MODIFIED:20260122T160125Z
UID:37498-1798761600-1798847999@dandridgetn.gov
SUMMARY:Town Offices Closed
DESCRIPTION:Town offices will be closed in observance of New Year’s Day
URL:https://dandridgetn.gov/event/town-offices-closed-16/
LOCATION:Town Hall\, 131 E Main Street\, Dandridge\, TN\, 37725\, United States
ATTACH;FMTTYPE=image/png:https://dandridgetn.gov/wp-content/uploads/2026/01/Closed-New-Years-Day.png
END:VEVENT
END:VCALENDAR