BEGIN:VCALENDAR
VERSION:2.0
PRODID:-//Town Of Dandridge Tennessee - ECPv6.15.20//NONSGML v1.0//EN
CALSCALE:GREGORIAN
METHOD:PUBLISH
X-WR-CALNAME:Town Of Dandridge Tennessee
X-ORIGINAL-URL:https://dandridgetn.gov
X-WR-CALDESC:Events for Town Of Dandridge Tennessee
REFRESH-INTERVAL;VALUE=DURATION:PT1H
X-Robots-Tag:noindex
X-PUBLISHED-TTL:PT1H
BEGIN:VTIMEZONE
TZID:UTC
BEGIN:STANDARD
TZOFFSETFROM:+0000
TZOFFSETTO:+0000
TZNAME:UTC
DTSTART:20250101T000000
END:STANDARD
END:VTIMEZONE
BEGIN:VEVENT
DTSTART;TZID=UTC:20260414T180000
DTEND;TZID=UTC:20260414T190000
DTSTAMP:20260424T154343
CREATED:20260330T143240Z
LAST-MODIFIED:20260330T143240Z
UID:37585-1776189600-1776193200@dandridgetn.gov
SUMMARY:Board of Mayor and Alderman Meeting
DESCRIPTION:
URL:https://dandridgetn.gov/event/board-of-mayor-and-alderman-meeting-7/
LOCATION:Dandridge PD/PW Building\, 267 W. HWY 25/70\, Dandridge\, 37725\, United States
ATTACH;FMTTYPE=image/png:https://dandridgetn.gov/wp-content/uploads/2015/03/Town-Of-Dandridge-Tennessee.png
END:VEVENT
END:VCALENDAR